BEGIN:VCALENDAR
VERSION:2.0
PRODID:eintopf.info
METHOD:REQUEST
BEGIN:VEVENT
UID:5abb06f9-f898-4246-8e60-5ee99eb0662f
SUMMARY:CSD Basteltreff für Queers und Allys jeden Alters
DTSTART:20260606T120000Z
URL:https://eintopf.info/event/5abb06f9-f898-4246-8e60-5ee99eb0662f
DTEND:20260606T160000Z
CATEGORIES:Offenes Treffen\,Queer
DESCRIPTION:Am 06.06. basteln wir gemeinsam Schilder für die CSD Saison.
  Anders als bei unseren anderen Treffs sind an diesem Termin Queers und
  Allys jeden Alters herzlich eingeladen. Mehr Infos folgen!\n\nHast Du
  Lust mit zu einem CSD Ausflug zu kommen? Dann schreib uns!\nWir suchen
  auch dringend Menschen\, die unsere Jugendgruppe für einen Ausflug
  punktuell unterstützen können.\n\n\n🏳️‍🌈 Der Rems-Queer-Kreis
  ist eine offene LSBTTIQA* Jugendgruppe\, die Anfang 2020 aus
  Eigeninitiative von queeren Jugendlichen entstand. Seitdem findet jeden
  ersten Samstag im Monat unser Gruppentreffen mit wechselnden
  Themenschwerpunkten statt\, bei dem wir uns chillen\, quatschen und einen
  Tisch mit Flyern und Büchern aufgebaut haben.\n\n📆 Meistens treffen
  wir uns am ersten Samstag im Monat von 14-18 Uhr in der Mühlstraße 3\,
  71522 Backnang. Der genaue Treffpunkt und Themenschwerpunkt werden
  spätestens zwei Wochen vor dem Treffen veröffentlicht.\n\n💰 Wir
  versuchen alle unsere Angebote kostenlos zu machen. Wenn etwas Geld
  kostet\, steht das extra dabei.\n\n🏳️‍⚧️ Die Gruppe ist offen
  für alle Jugendliche bis 27 Jahre\, die sich als lesbisch\, schwul\,
  bisexuell\, pansexuell\, trans\, inter\, queer\, asexuell oder
  aromantisch etc. identifizieren. Auch Allys\, Neugierige und Menschen\,
  die sich fragen ob sie vielleicht queer sind\, sind willkommen.\n\n👥
  Der Jugendtreff ist ein Projekt der AWO Backnang.\n\n🫵🏽 Hast du
  Lust queere Jugendarbeit im ländlichen Raum zu unterstützen? Dann werde
  Teil unseres Orga Teams\, denn der Rems-Queer-Kreis lebt von uns Queers\,
  die sich das Programm selbst gestalten! Schreib uns eine Privatnachricht
  oder komm zu einem offenen Orga Treffen! Die Termine findest du auf
  unseren Socials.\n\nInstagram: @rems_queer_kreis\nMastodon:
  lsbt.me/@rems_queer_kreis
LOCATION:Juze Backnang\, Mühlstraße 3\, Backnang
GEO:48.94637055;9.42021475
ORGANIZER:mailto:Rems Queer Kreis
END:VEVENT
BEGIN:VEVENT
UID:7cfffae8-4950-4f49-bef5-127aa01ff949
SUMMARY:Rems-Queer Kreis offener Jugendtreff
DTSTART:20260704T120000Z
URL:https://eintopf.info/event/7cfffae8-4950-4f49-bef5-127aa01ff949
DTEND:20260704T160000Z
CATEGORIES:Offenes Treffen\,Queer
DESCRIPTION:🏳️‍🌈 Der Rems-Queer-Kreis ist eine offene LSBTTIQA*
  Jugendgruppe\, die Anfang 2020 aus Eigeninitiative von queeren
  Jugendlichen entstand. Seitdem findet jeden ersten Samstag im Monat unser
  Gruppentreffen mit wechselnden Themenschwerpunkten statt\, bei dem wir
  uns chillen\, quatschen und einen Tisch mit Flyern und Büchern aufgebaut
  haben.\n\n📆 Meistens treffen wir uns am ersten Samstag im Monat von
  14-18 Uhr in der Mühlstraße 3\, 71522 Backnang. Der genaue Treffpunkt
  und Themenschwerpunkt werden spätestens zwei Wochen vor dem Treffen
  veröffentlicht.\n\n💰 Wir versuchen alle unsere Angebote kostenlos zu
  machen. Wenn etwas Geld kostet\, steht das extra
  dabei.\n\n🏳️‍⚧️ Die Gruppe ist offen für alle Jugendliche bis
  27 Jahre\, die sich als lesbisch\, schwul\, bisexuell\, pansexuell\,
  trans\, inter\, queer\, asexuell oder aromantisch etc. identifizieren.
  Auch Allys\, Neugierige und Menschen\, die sich fragen ob sie vielleicht
  queer sind\, sind willkommen.\n\n👥 Der Jugendtreff ist ein Projekt der
  AWO Backnang.\n\n🫵🏽 Hast du Lust queere Jugendarbeit im ländlichen
  Raum zu unterstützen? Dann werde Teil unseres Orga Teams\, denn der
  Rems-Queer-Kreis lebt von uns Queers\, die sich das Programm selbst
  gestalten! Schreib uns eine Privatnachricht oder komm zu einem offenen
  Orga Treffen! Die Termine findest du auf unseren Socials.\n\nInstagram:
  @rems_queer_kreis\nMastodon: lsbt.me/@rems_queer_kreis
LOCATION:Juze Backnang\, Mühlstraße 3\, Backnang
GEO:48.94637055;9.42021475
ORGANIZER:mailto:Rems Queer Kreis
END:VEVENT
BEGIN:VEVENT
UID:4374c4df-2382-453d-9866-bad9a7fa918b
SUMMARY:Rems-Queer Kreis offener Jugendtreff
DTSTART:20260801T120000Z
URL:https://eintopf.info/event/4374c4df-2382-453d-9866-bad9a7fa918b
DTEND:20260801T160000Z
CATEGORIES:Offenes Treffen\,Queer
DESCRIPTION:🏳️‍🌈 Der Rems-Queer-Kreis ist eine offene LSBTTIQA*
  Jugendgruppe\, die Anfang 2020 aus Eigeninitiative von queeren
  Jugendlichen entstand. Seitdem findet jeden ersten Samstag im Monat unser
  Gruppentreffen mit wechselnden Themenschwerpunkten statt\, bei dem wir
  uns chillen\, quatschen und einen Tisch mit Flyern und Büchern aufgebaut
  haben.\n\n📆 Meistens treffen wir uns am ersten Samstag im Monat von
  14-18 Uhr in der Mühlstraße 3\, 71522 Backnang. Der genaue Treffpunkt
  und Themenschwerpunkt werden spätestens zwei Wochen vor dem Treffen
  veröffentlicht.\n\n💰 Wir versuchen alle unsere Angebote kostenlos zu
  machen. Wenn etwas Geld kostet\, steht das extra
  dabei.\n\n🏳️‍⚧️ Die Gruppe ist offen für alle Jugendliche bis
  27 Jahre\, die sich als lesbisch\, schwul\, bisexuell\, pansexuell\,
  trans\, inter\, queer\, asexuell oder aromantisch etc. identifizieren.
  Auch Allys\, Neugierige und Menschen\, die sich fragen ob sie vielleicht
  queer sind\, sind willkommen.\n\n👥 Der Jugendtreff ist ein Projekt der
  AWO Backnang.\n\n🫵🏽 Hast du Lust queere Jugendarbeit im ländlichen
  Raum zu unterstützen? Dann werde Teil unseres Orga Teams\, denn der
  Rems-Queer-Kreis lebt von uns Queers\, die sich das Programm selbst
  gestalten! Schreib uns eine Privatnachricht oder komm zu einem offenen
  Orga Treffen! Die Termine findest du auf unseren Socials.\n\nInstagram:
  @rems_queer_kreis\nMastodon: lsbt.me/@rems_queer_kreis
LOCATION:Juze Backnang\, Mühlstraße 3\, Backnang
GEO:48.94637055;9.42021475
ORGANIZER:mailto:Rems Queer Kreis
END:VEVENT
BEGIN:VEVENT
UID:a4880e00-ac78-44ee-8f0b-eff9224dfbcb
SUMMARY:Rems-Queer Kreis offener Jugendtreff
DTSTART:20260905T120000Z
URL:https://eintopf.info/event/a4880e00-ac78-44ee-8f0b-eff9224dfbcb
DTEND:20260905T160000Z
CATEGORIES:Offenes Treffen\,Queer
DESCRIPTION:🏳️‍🌈 Der Rems-Queer-Kreis ist eine offene LSBTTIQA*
  Jugendgruppe\, die Anfang 2020 aus Eigeninitiative von queeren
  Jugendlichen entstand. Seitdem findet jeden ersten Samstag im Monat unser
  Gruppentreffen mit wechselnden Themenschwerpunkten statt\, bei dem wir
  uns chillen\, quatschen und einen Tisch mit Flyern und Büchern aufgebaut
  haben.\n\n📆 Meistens treffen wir uns am ersten Samstag im Monat von
  14-18 Uhr in der Mühlstraße 3\, 71522 Backnang. Der genaue Treffpunkt
  und Themenschwerpunkt werden spätestens zwei Wochen vor dem Treffen
  veröffentlicht.\n\n💰 Wir versuchen alle unsere Angebote kostenlos zu
  machen. Wenn etwas Geld kostet\, steht das extra
  dabei.\n\n🏳️‍⚧️ Die Gruppe ist offen für alle Jugendliche bis
  27 Jahre\, die sich als lesbisch\, schwul\, bisexuell\, pansexuell\,
  trans\, inter\, queer\, asexuell oder aromantisch etc. identifizieren.
  Auch Allys\, Neugierige und Menschen\, die sich fragen ob sie vielleicht
  queer sind\, sind willkommen.\n\n👥 Der Jugendtreff ist ein Projekt der
  AWO Backnang.\n\n🫵🏽 Hast du Lust queere Jugendarbeit im ländlichen
  Raum zu unterstützen? Dann werde Teil unseres Orga Teams\, denn der
  Rems-Queer-Kreis lebt von uns Queers\, die sich das Programm selbst
  gestalten! Schreib uns eine Privatnachricht oder komm zu einem offenen
  Orga Treffen! Die Termine findest du auf unseren Socials.\n\nInstagram:
  @rems_queer_kreis\nMastodon: lsbt.me/@rems_queer_kreis
LOCATION:Juze Backnang\, Mühlstraße 3\, Backnang
GEO:48.94637055;9.42021475
ORGANIZER:mailto:Rems Queer Kreis
END:VEVENT
BEGIN:VEVENT
UID:df5e3632-49f7-4ebe-9d3a-e6f433748b53
SUMMARY:Rems-Queer Kreis offener Jugendtreff
DTSTART:20261003T120000Z
URL:https://eintopf.info/event/df5e3632-49f7-4ebe-9d3a-e6f433748b53
DTEND:20261003T160000Z
CATEGORIES:Offenes Treffen\,Queer
DESCRIPTION:🏳️‍🌈 Der Rems-Queer-Kreis ist eine offene LSBTTIQA*
  Jugendgruppe\, die Anfang 2020 aus Eigeninitiative von queeren
  Jugendlichen entstand. Seitdem findet jeden ersten Samstag im Monat unser
  Gruppentreffen mit wechselnden Themenschwerpunkten statt\, bei dem wir
  uns chillen\, quatschen und einen Tisch mit Flyern und Büchern aufgebaut
  haben.\n\n📆 Meistens treffen wir uns am ersten Samstag im Monat von
  14-18 Uhr in der Mühlstraße 3\, 71522 Backnang. Der genaue Treffpunkt
  und Themenschwerpunkt werden spätestens zwei Wochen vor dem Treffen
  veröffentlicht.\n\n💰 Wir versuchen alle unsere Angebote kostenlos zu
  machen. Wenn etwas Geld kostet\, steht das extra
  dabei.\n\n🏳️‍⚧️ Die Gruppe ist offen für alle Jugendliche bis
  27 Jahre\, die sich als lesbisch\, schwul\, bisexuell\, pansexuell\,
  trans\, inter\, queer\, asexuell oder aromantisch etc. identifizieren.
  Auch Allys\, Neugierige und Menschen\, die sich fragen ob sie vielleicht
  queer sind\, sind willkommen.\n\n👥 Der Jugendtreff ist ein Projekt der
  AWO Backnang.\n\n🫵🏽 Hast du Lust queere Jugendarbeit im ländlichen
  Raum zu unterstützen? Dann werde Teil unseres Orga Teams\, denn der
  Rems-Queer-Kreis lebt von uns Queers\, die sich das Programm selbst
  gestalten! Schreib uns eine Privatnachricht oder komm zu einem offenen
  Orga Treffen! Die Termine findest du auf unseren Socials.\n\nInstagram:
  @rems_queer_kreis\nMastodon: lsbt.me/@rems_queer_kreis
LOCATION:Juze Backnang\, Mühlstraße 3\, Backnang
GEO:48.94637055;9.42021475
ORGANIZER:mailto:Rems Queer Kreis
END:VEVENT
END:VCALENDAR
