BEGIN:VCALENDAR
VERSION:2.0
PRODID:eintopf.info
METHOD:REQUEST
BEGIN:VEVENT
UID:4c8dacb2-32e7-4ff9-be7a-2b5f6251deff
SUMMARY:Themenabend "Lastentransport mit dem Fahrrad"
DTSTART:20260429T173000Z
URL:https://eintopf.info/event/4c8dacb2-32e7-4ff9-be7a-2b5f6251deff
DTEND:20260429T193000Z
CATEGORIES:Vortrag\,Mobilität
DESCRIPTION:Vom Gepäckträger über das Lastenrad bis zum Fahrradanhänger
  wird gezeigt\, wie man auch mit dem Fahrrad Lasten transportieren kann.
  Es sollen Erfahrungen ausgetauscht werden über die Möglichkeiten und
  deren
  Grenzen.\n\nhttps://touren-termine.adfc.de/radveranstaltung/195093-themen
 abend-lastentransport-mit-dem-fahrrad
LOCATION:ADFC Stuttgart\, Rotebühlstraße 86/1\, 70178 Stuttgart
GEO:48.7716967;9.1601498
ORGANIZER:mailto:ADFC Stuttgart
END:VEVENT
BEGIN:VEVENT
UID:8aa86468-7e9e-4f57-997e-76646de9bfaf
SUMMARY:Einladung: Auftaktveranstaltung – Radverkehrskonzept Stuttgart
DTSTART:20260430T150000Z
URL:https://eintopf.info/event/8aa86468-7e9e-4f57-997e-76646de9bfaf
DTEND:20260430T170000Z
CATEGORIES:Vortrag\,Mobilität
DESCRIPTION:Einladung vom ADFC Stuttgart\, mit Vielen zu kommen um den Saal
  zu füllen zu zeigen: Wir haben den Bedarf und unterstützen den Willen
  zur
  Veränderung!\n\nhttps://www.stuttgart-meine-stadt.de/mobilitaet/radverke
 hrskonzept\n\n\n\nStuttgart hat sich das ehrgeizige Ziel gesetzt\, eine
  echte Fahrradstadt zu werden.\n\nDieser Grundsatzbeschluss des
  Gemeinderats ermöglicht es\, die Förderung des Radverkehrs in der
  Landeshauptstadt neu zu denken.\n\nFür eine umfassende\, zielgerichtete
  und erfolgreiche Förderung des Radverkehrs ist eine konzeptionelle
  Grundlage unerlässlich. Hierfür erfolgt nun die Fortschreibung des
  Radverkehrskonzeptes Stuttgart. Das bisherige Radverkehrskonzept von
  2009\n\nsoll gemeinsam mit Politik\, Verwaltung\, Fachakteuren und
  Stadtgesellschaft grundlegend überarbeitet\, auf den aktuellen Stand der
  Technik gebracht und um neue Themenfelder ergänzt werden.\n\nDen ersten
  öffentlichen Meilenstein bildet die Auftaktveranstaltung zum
  Radverkehrskonzept Stuttgart\, zu der wir Sie herzlich
  einladen.\n\nDonnerstag\, 30. April 2026\n\n17:00 – 19:00
  Uhr\n\nRathaus Stuttgart\, Großer Sitzungssaal\n\nHybride
  Veranstaltung\n\nIm Rahmen der Veranstaltung informiert die Stadt
  Stuttgart über Ziele\, Hintergründe und den geplanten Prozess der
  Konzeptfortschreibung. Gleichzeitig besteht Gelegenheit zum Austausch mit
  dem Projektteam sowie zur Einbringung erster Hinweise und
  Erwartungen.\n\nDie Veranstaltung richtet sich an Vertreterinnen und
  Vertreter aus Politik\, Verwaltung\, Verbänden\, Initiativen\,
  Fachplanung sowie an interessierte Bürgerinnen und Bürger. Sie markiert
  zugleich den Start der Online-Beteiligung\, über die weitere\n\nHinweise
  und Ideen zum Radverkehr in Stuttgart eingebracht werden können.\n\nText
  von
  https://www.weilimdorf.de/veranstaltungen/auftaktveranstaltung-radverkehr
 skonzept-stuttgart/
LOCATION:Rathaus\, Marktplatz 1\, 70173 Stuttgart Mitte\, Großer
  Sitzungssaal
GEO:48.7748156;9.1774918
ORGANIZER:mailto:Stadt Stuttgart ,ADFC Stuttgart
END:VEVENT
BEGIN:VEVENT
UID:727b7898-e70b-4a94-b413-8e8f639ebbfd
SUMMARY:ADFC Stuttgart - Radverkehrspolitik: Radverkehrsgruppe West
DTSTART:20260511T183000Z
URL:https://eintopf.info/event/727b7898-e70b-4a94-b413-8e8f639ebbfd
DTEND:20260511T203000Z
CATEGORIES:Offenes Treffen\,Mobilität
DESCRIPTION:Radverkehrsgruppe Stuttgart-West – Gemeinsam für bessere
  Bedingungen\n\nWarum ist es im Stuttgarter Westen immer noch so
  schwierig\, mit dem Rad stressfrei unterwegs zu sein? Wir wollen das
  ändern!\n\nDie Radverkehrsgruppe West trifft sich ab sofort jeden 2.
  Montag im Monat um 19:30 Uhr im Umweltzentrum (Rotebühlstraße 86\,
  Hinterhaus).\n\nEgal ob du Alltagsradlerin\, Freizeitfahrer\, Elternteil
  oder einfach neugierig bist: Bei uns bist du willkommen – auch ohne
  ADFC-Mitgliedschaft. Wir diskutieren Probleme und Chancen für den
  Radverkehr im Westen\, sammeln Ideen und entwickeln konkrete
  Aktionen.\n\nDeine Erfahrung und deine Perspektive zählen! Komm vorbei\,
  bring deine Ideen ein und hilf mit\, den Stuttgarter Westen
  fahrradfreundlicher zu machen.\n
LOCATION:ADFC Stuttgart\, Rotebühlstraße 86/1\, 70178 Stuttgart
GEO:48.7716967;9.1601498
ORGANIZER:mailto:ADFC Stuttgart
END:VEVENT
BEGIN:VEVENT
UID:e6daef74-3feb-459d-8a6e-e37af9f1ef93
SUMMARY:ADFC Stuttgart - Radverkehrspolitik: Radverkehrsgruppe West
DTSTART:20260608T183000Z
URL:https://eintopf.info/event/e6daef74-3feb-459d-8a6e-e37af9f1ef93
DTEND:20260608T203000Z
CATEGORIES:Offenes Treffen\,Mobilität
DESCRIPTION:Radverkehrsgruppe Stuttgart-West – Gemeinsam für bessere
  Bedingungen\n\nWarum ist es im Stuttgarter Westen immer noch so
  schwierig\, mit dem Rad stressfrei unterwegs zu sein? Wir wollen das
  ändern!\n\nDie Radverkehrsgruppe West trifft sich ab sofort jeden 2.
  Montag im Monat um 19:30 Uhr im Umweltzentrum (Rotebühlstraße 86\,
  Hinterhaus).\n\nEgal ob du Alltagsradlerin\, Freizeitfahrer\, Elternteil
  oder einfach neugierig bist: Bei uns bist du willkommen – auch ohne
  ADFC-Mitgliedschaft. Wir diskutieren Probleme und Chancen für den
  Radverkehr im Westen\, sammeln Ideen und entwickeln konkrete
  Aktionen.\n\nDeine Erfahrung und deine Perspektive zählen! Komm vorbei\,
  bring deine Ideen ein und hilf mit\, den Stuttgarter Westen
  fahrradfreundlicher zu machen.\n
LOCATION:ADFC Stuttgart\, Rotebühlstraße 86/1\, 70178 Stuttgart
GEO:48.7716967;9.1601498
ORGANIZER:mailto:ADFC Stuttgart
END:VEVENT
BEGIN:VEVENT
UID:9d085156-db92-417b-8e9e-08df396e317c
SUMMARY:ADFC Stuttgart - Radverkehrspolitik: Radverkehrsgruppe West
DTSTART:20260713T183000Z
URL:https://eintopf.info/event/9d085156-db92-417b-8e9e-08df396e317c
DTEND:20260713T203000Z
CATEGORIES:Offenes Treffen\,Mobilität
DESCRIPTION:Radverkehrsgruppe Stuttgart-West – Gemeinsam für bessere
  Bedingungen\n\nWarum ist es im Stuttgarter Westen immer noch so
  schwierig\, mit dem Rad stressfrei unterwegs zu sein? Wir wollen das
  ändern!\n\nDie Radverkehrsgruppe West trifft sich ab sofort jeden 2.
  Montag im Monat um 19:30 Uhr im Umweltzentrum (Rotebühlstraße 86\,
  Hinterhaus).\n\nEgal ob du Alltagsradlerin\, Freizeitfahrer\, Elternteil
  oder einfach neugierig bist: Bei uns bist du willkommen – auch ohne
  ADFC-Mitgliedschaft. Wir diskutieren Probleme und Chancen für den
  Radverkehr im Westen\, sammeln Ideen und entwickeln konkrete
  Aktionen.\n\nDeine Erfahrung und deine Perspektive zählen! Komm vorbei\,
  bring deine Ideen ein und hilf mit\, den Stuttgarter Westen
  fahrradfreundlicher zu machen.\n
LOCATION:ADFC Stuttgart\, Rotebühlstraße 86/1\, 70178 Stuttgart
GEO:48.7716967;9.1601498
ORGANIZER:mailto:ADFC Stuttgart
END:VEVENT
BEGIN:VEVENT
UID:ed24636b-e6e1-4e98-abec-216f948705c4
SUMMARY:ADFC Stuttgart - Radverkehrspolitik: Radverkehrsgruppe West
DTSTART:20260810T183000Z
URL:https://eintopf.info/event/ed24636b-e6e1-4e98-abec-216f948705c4
DTEND:20260810T203000Z
CATEGORIES:Offenes Treffen\,Mobilität
DESCRIPTION:Radverkehrsgruppe Stuttgart-West – Gemeinsam für bessere
  Bedingungen\n\nWarum ist es im Stuttgarter Westen immer noch so
  schwierig\, mit dem Rad stressfrei unterwegs zu sein? Wir wollen das
  ändern!\n\nDie Radverkehrsgruppe West trifft sich ab sofort jeden 2.
  Montag im Monat um 19:30 Uhr im Umweltzentrum (Rotebühlstraße 86\,
  Hinterhaus).\n\nEgal ob du Alltagsradlerin\, Freizeitfahrer\, Elternteil
  oder einfach neugierig bist: Bei uns bist du willkommen – auch ohne
  ADFC-Mitgliedschaft. Wir diskutieren Probleme und Chancen für den
  Radverkehr im Westen\, sammeln Ideen und entwickeln konkrete
  Aktionen.\n\nDeine Erfahrung und deine Perspektive zählen! Komm vorbei\,
  bring deine Ideen ein und hilf mit\, den Stuttgarter Westen
  fahrradfreundlicher zu machen.\n
LOCATION:ADFC Stuttgart\, Rotebühlstraße 86/1\, 70178 Stuttgart
GEO:48.7716967;9.1601498
ORGANIZER:mailto:ADFC Stuttgart
END:VEVENT
BEGIN:VEVENT
UID:1c78c331-db1b-42ef-9760-3caea280a804
SUMMARY:ADFC Stuttgart - Radverkehrspolitik: Radverkehrsgruppe West
DTSTART:20260914T183000Z
URL:https://eintopf.info/event/1c78c331-db1b-42ef-9760-3caea280a804
DTEND:20260914T203000Z
CATEGORIES:Offenes Treffen\,Mobilität
DESCRIPTION:Radverkehrsgruppe Stuttgart-West – Gemeinsam für bessere
  Bedingungen\n\nWarum ist es im Stuttgarter Westen immer noch so
  schwierig\, mit dem Rad stressfrei unterwegs zu sein? Wir wollen das
  ändern!\n\nDie Radverkehrsgruppe West trifft sich ab sofort jeden 2.
  Montag im Monat um 19:30 Uhr im Umweltzentrum (Rotebühlstraße 86\,
  Hinterhaus).\n\nEgal ob du Alltagsradlerin\, Freizeitfahrer\, Elternteil
  oder einfach neugierig bist: Bei uns bist du willkommen – auch ohne
  ADFC-Mitgliedschaft. Wir diskutieren Probleme und Chancen für den
  Radverkehr im Westen\, sammeln Ideen und entwickeln konkrete
  Aktionen.\n\nDeine Erfahrung und deine Perspektive zählen! Komm vorbei\,
  bring deine Ideen ein und hilf mit\, den Stuttgarter Westen
  fahrradfreundlicher zu machen.\n
LOCATION:ADFC Stuttgart\, Rotebühlstraße 86/1\, 70178 Stuttgart
GEO:48.7716967;9.1601498
ORGANIZER:mailto:ADFC Stuttgart
END:VEVENT
END:VCALENDAR
