BEGIN:VCALENDAR
VERSION:2.0
PRODID:eintopf.info
METHOD:REQUEST
BEGIN:VEVENT
UID:5bb974dc-b2ec-4dfc-987a-cafdfdef6879
SUMMARY:Spätzle Coding Night #2
DTSTART:20260424T163000Z
URL:https://eintopf.info/event/5bb974dc-b2ec-4dfc-987a-cafdfdef6879
DTEND:20260425T210000Z
CATEGORIES:Gesellig\,IT
DESCRIPTION:Du willst dich mit anderen Nerds und Hacker*innen vernetzen\,
  spannende Projekte kennenlernen oder einfach in entspannter Atmosphäre
  deine eigenen Ideen umsetzen? Egal ob Anfänger*in oder erfahrene*r
  Hacker*in – wir freuen uns auf dich!\n\nWas dich erwartet:\n\n-
  Austausch & Vernetzung mit anderen Hacker*innen und solchen\, die es
  werden wollen\n- Einblicke in spannende Open-Source-Projekte\n-
  Mitstreiter*innen für deine eigenen Ideen finden oder bei bestehenden
  Projekten einsteigen\n- Gemeinsam coden\, tüfteln und abhängen\n\n\n~
  Programm ~\n\n//Freitag\n\n18:30 Ankommen & Spätzle essen (vegan)\n19:30
  Projektvorstellungen (Kurzvorträge & Diskussion)\n    -
  Verwaltungstracker\n    - Modal Collective\n    - Bonfire\n    - Digital
  Security Map\n21:30 Abhängen\n23:59 Ende\n\n// Samstag\n\n10:30 Ankommen
  & Kaffee trinken\n11:30 Begrüßungsrunde & evtl. Aufteilung in
  Teams\n12:00 Freies Coden / Abhängen\n23:59 Ende
LOCATION:Prisma\, Bahnhofstraße 14-18\, 70372 Stuttgart
GEO:48.8024492;9.2171569
ORGANIZER:mailto:Klasse & Methode - IT Kollektiv Stuttgart
END:VEVENT
BEGIN:VEVENT
UID:4dfcda0e-d3b3-4fb3-adaa-ade3f51af29b
SUMMARY:Offenes Treffen IT Kollektiv
DTSTART:20260507T163000Z
URL:https://eintopf.info/event/4dfcda0e-d3b3-4fb3-adaa-ade3f51af29b
DTEND:20260507T190000Z
CATEGORIES:Offenes Treffen\,IT
DESCRIPTION:Jetzt 2 mal im Monat im neuen Format!\n\nDu interessierst dich
  für IT im Allgemeinen\, Webentwicklung oder  Design im speziellen? Du
  wolltest schon immer mal die Menschen hinter  EINTOPF kennen lernen und
  wissen was wir sonst noch für Projekte machen?  Du hast eine Projektidee
  und suchst gleichgesinnte mit denen du sie umsetzen kannst? Dann komm zu
  unserem offenen Treffen im neuen Format.\n\nUm bei uns im Kollektiv
  mitmachen zu  können musst du nicht studiert haben oder Javascript-Profi
  sein\, bei uns  finden auch interessierte Anfänger*innen einen Platz.
  Wir wollen  gemeinsam technisch und politisch arbeiten\, lernen und Spaß
  haben.\n\nDer Abend gestaltet sich grob folgendermaßen:\n\n18:30 Für
  neue Menschen: Vorstellung von Klasse & Methode und Kennenlernen\n\n19:00
  Besprechen der aktuellen Projekte\n\nca 19:30 Freie Gestaltung: Wer
  möchte kann schon an einem Projekt arbeiten. Wir unterstützen uns
  gegenseitig bei Fragen und Problemen. Es kann aber auch gemütlich bei
  einem Getränk gequatscht werden.\n\nEnde ca 21:00 Uhr\, je nach Abend
  vielleicht auch länger.\n\nWie  du uns im Prisma findest: In der
  Fußgängerzone (Bahnhofstraße) durchs rote Tor\, dort die Treppe oder
  den Aufzug in den ersten Stock nehmen. Dort durch die Doppel-Glastüre
  und gleich den Gang nach links\, dann direkt rechts in die Commons
  Kitchen.\n\nWir freuen uns auf dich!
LOCATION:Prisma\, Bahnhofstraße 14-18\, 70372 Stuttgart
GEO:48.8024492;9.2171569
ORGANIZER:mailto:Klasse & Methode - IT Kollektiv Stuttgart
END:VEVENT
BEGIN:VEVENT
UID:3e73c619-da19-4775-bbd3-c547c18dfd72
SUMMARY:Offenes Treffen IT Kollektiv
DTSTART:20260521T163000Z
URL:https://eintopf.info/event/3e73c619-da19-4775-bbd3-c547c18dfd72
DTEND:20260521T190000Z
CATEGORIES:Offenes Treffen\,IT
DESCRIPTION:Jetzt 2 mal im Monat im neuen Format!\n\nDu interessierst dich
  für IT im Allgemeinen\, Webentwicklung oder  Design im speziellen? Du
  wolltest schon immer mal die Menschen hinter  EINTOPF kennen lernen und
  wissen was wir sonst noch für Projekte machen?  Du hast eine Projektidee
  und suchst gleichgesinnte mit denen du sie umsetzen kannst? Dann komm zu
  unserem offenen Treffen im neuen Format.\n\nUm bei uns im Kollektiv
  mitmachen zu  können musst du nicht studiert haben oder Javascript-Profi
  sein\, bei uns  finden auch interessierte Anfänger*innen einen Platz.
  Wir wollen  gemeinsam technisch und politisch arbeiten\, lernen und Spaß
  haben.\n\nDer Abend gestaltet sich grob folgendermaßen:\n\n18:30 Für
  neue Menschen: Vorstellung von Klasse & Methode und Kennenlernen\n\n19:00
  Besprechen der aktuellen Projekte\n\nca 19:30 Freie Gestaltung: Wer
  möchte kann schon an einem Projekt arbeiten. Wir unterstützen uns
  gegenseitig bei Fragen und Problemen. Es kann aber auch gemütlich bei
  einem Getränk gequatscht werden.\n\nEnde ca 21:00 Uhr\, je nach Abend
  vielleicht auch länger.\n\nWie  du uns im Prisma findest: In der
  Fußgängerzone (Bahnhofstraße) durchs rote Tor\, dort die Treppe oder
  den Aufzug in den ersten Stock nehmen. Dort durch die Doppel-Glastüre
  und gleich den Gang nach links\, dann direkt rechts in die Commons
  Kitchen.\n\nWir freuen uns auf dich!
LOCATION:Prisma\, Bahnhofstraße 14-18\, 70372 Stuttgart
GEO:48.8024492;9.2171569
ORGANIZER:mailto:Klasse & Methode - IT Kollektiv Stuttgart
END:VEVENT
BEGIN:VEVENT
UID:64d3e08e-4f75-48a0-99bf-e25cd3c78708
SUMMARY:Offenes Treffen IT Kollektiv
DTSTART:20260604T163000Z
URL:https://eintopf.info/event/64d3e08e-4f75-48a0-99bf-e25cd3c78708
DTEND:20260604T190000Z
CATEGORIES:Offenes Treffen\,IT
DESCRIPTION:Jetzt 2 mal im Monat im neuen Format!\n\nDu interessierst dich
  für IT im Allgemeinen\, Webentwicklung oder  Design im speziellen? Du
  wolltest schon immer mal die Menschen hinter  EINTOPF kennen lernen und
  wissen was wir sonst noch für Projekte machen?  Du hast eine Projektidee
  und suchst gleichgesinnte mit denen du sie umsetzen kannst? Dann komm zu
  unserem offenen Treffen im neuen Format.\n\nUm bei uns im Kollektiv
  mitmachen zu  können musst du nicht studiert haben oder Javascript-Profi
  sein\, bei uns  finden auch interessierte Anfänger*innen einen Platz.
  Wir wollen  gemeinsam technisch und politisch arbeiten\, lernen und Spaß
  haben.\n\nDer Abend gestaltet sich grob folgendermaßen:\n\n18:30 Für
  neue Menschen: Vorstellung von Klasse & Methode und Kennenlernen\n\n19:00
  Besprechen der aktuellen Projekte\n\nca 19:30 Freie Gestaltung: Wer
  möchte kann schon an einem Projekt arbeiten. Wir unterstützen uns
  gegenseitig bei Fragen und Problemen. Es kann aber auch gemütlich bei
  einem Getränk gequatscht werden.\n\nEnde ca 21:00 Uhr\, je nach Abend
  vielleicht auch länger.\n\nWie  du uns im Prisma findest: In der
  Fußgängerzone (Bahnhofstraße) durchs rote Tor\, dort die Treppe oder
  den Aufzug in den ersten Stock nehmen. Dort durch die Doppel-Glastüre
  und gleich den Gang nach links\, dann direkt rechts in die Commons
  Kitchen.\n\nWir freuen uns auf dich!
LOCATION:Prisma\, Bahnhofstraße 14-18\, 70372 Stuttgart
GEO:48.8024492;9.2171569
ORGANIZER:mailto:Klasse & Methode - IT Kollektiv Stuttgart
END:VEVENT
BEGIN:VEVENT
UID:81d8d5f8-4350-4241-9ee3-6967082a9572
SUMMARY:Offenes Treffen IT Kollektiv
DTSTART:20260618T163000Z
URL:https://eintopf.info/event/81d8d5f8-4350-4241-9ee3-6967082a9572
DTEND:20260618T190000Z
CATEGORIES:Offenes Treffen\,IT
DESCRIPTION:Jetzt 2 mal im Monat im neuen Format!\n\nDu interessierst dich
  für IT im Allgemeinen\, Webentwicklung oder  Design im speziellen? Du
  wolltest schon immer mal die Menschen hinter  EINTOPF kennen lernen und
  wissen was wir sonst noch für Projekte machen?  Du hast eine Projektidee
  und suchst gleichgesinnte mit denen du sie umsetzen kannst? Dann komm zu
  unserem offenen Treffen im neuen Format.\n\nUm bei uns im Kollektiv
  mitmachen zu  können musst du nicht studiert haben oder Javascript-Profi
  sein\, bei uns  finden auch interessierte Anfänger*innen einen Platz.
  Wir wollen  gemeinsam technisch und politisch arbeiten\, lernen und Spaß
  haben.\n\nDer Abend gestaltet sich grob folgendermaßen:\n\n18:30 Für
  neue Menschen: Vorstellung von Klasse & Methode und Kennenlernen\n\n19:00
  Besprechen der aktuellen Projekte\n\nca 19:30 Freie Gestaltung: Wer
  möchte kann schon an einem Projekt arbeiten. Wir unterstützen uns
  gegenseitig bei Fragen und Problemen. Es kann aber auch gemütlich bei
  einem Getränk gequatscht werden.\n\nEnde ca 21:00 Uhr\, je nach Abend
  vielleicht auch länger.\n\nWie  du uns im Prisma findest: In der
  Fußgängerzone (Bahnhofstraße) durchs rote Tor\, dort die Treppe oder
  den Aufzug in den ersten Stock nehmen. Dort durch die Doppel-Glastüre
  und gleich den Gang nach links\, dann direkt rechts in die Commons
  Kitchen.\n\nWir freuen uns auf dich!
LOCATION:Prisma\, Bahnhofstraße 14-18\, 70372 Stuttgart
GEO:48.8024492;9.2171569
ORGANIZER:mailto:Klasse & Methode - IT Kollektiv Stuttgart
END:VEVENT
BEGIN:VEVENT
UID:0a83bd75-6a3e-4c9c-9b60-025e3cf4d6f0
SUMMARY:Offenes Treffen IT Kollektiv
DTSTART:20260702T163000Z
URL:https://eintopf.info/event/0a83bd75-6a3e-4c9c-9b60-025e3cf4d6f0
DTEND:20260702T190000Z
CATEGORIES:Offenes Treffen\,IT
DESCRIPTION:Jetzt 2 mal im Monat im neuen Format!\n\nDu interessierst dich
  für IT im Allgemeinen\, Webentwicklung oder  Design im speziellen? Du
  wolltest schon immer mal die Menschen hinter  EINTOPF kennen lernen und
  wissen was wir sonst noch für Projekte machen?  Du hast eine Projektidee
  und suchst gleichgesinnte mit denen du sie umsetzen kannst? Dann komm zu
  unserem offenen Treffen im neuen Format.\n\nUm bei uns im Kollektiv
  mitmachen zu  können musst du nicht studiert haben oder Javascript-Profi
  sein\, bei uns  finden auch interessierte Anfänger*innen einen Platz.
  Wir wollen  gemeinsam technisch und politisch arbeiten\, lernen und Spaß
  haben.\n\nDer Abend gestaltet sich grob folgendermaßen:\n\n18:30 Für
  neue Menschen: Vorstellung von Klasse & Methode und Kennenlernen\n\n19:00
  Besprechen der aktuellen Projekte\n\nca 19:30 Freie Gestaltung: Wer
  möchte kann schon an einem Projekt arbeiten. Wir unterstützen uns
  gegenseitig bei Fragen und Problemen. Es kann aber auch gemütlich bei
  einem Getränk gequatscht werden.\n\nEnde ca 21:00 Uhr\, je nach Abend
  vielleicht auch länger.\n\nWie  du uns im Prisma findest: In der
  Fußgängerzone (Bahnhofstraße) durchs rote Tor\, dort die Treppe oder
  den Aufzug in den ersten Stock nehmen. Dort durch die Doppel-Glastüre
  und gleich den Gang nach links\, dann direkt rechts in die Commons
  Kitchen.\n\nWir freuen uns auf dich!
LOCATION:Prisma\, Bahnhofstraße 14-18\, 70372 Stuttgart
GEO:48.8024492;9.2171569
ORGANIZER:mailto:Klasse & Methode - IT Kollektiv Stuttgart
END:VEVENT
BEGIN:VEVENT
UID:bbb35665-d7c9-48e6-a426-17bebc52b15b
SUMMARY:Offenes Treffen IT Kollektiv
DTSTART:20260716T163000Z
URL:https://eintopf.info/event/bbb35665-d7c9-48e6-a426-17bebc52b15b
DTEND:20260716T190000Z
CATEGORIES:Offenes Treffen\,IT
DESCRIPTION:Jetzt 2 mal im Monat im neuen Format!\n\nDu interessierst dich
  für IT im Allgemeinen\, Webentwicklung oder  Design im speziellen? Du
  wolltest schon immer mal die Menschen hinter  EINTOPF kennen lernen und
  wissen was wir sonst noch für Projekte machen?  Du hast eine Projektidee
  und suchst gleichgesinnte mit denen du sie umsetzen kannst? Dann komm zu
  unserem offenen Treffen im neuen Format.\n\nUm bei uns im Kollektiv
  mitmachen zu  können musst du nicht studiert haben oder Javascript-Profi
  sein\, bei uns  finden auch interessierte Anfänger*innen einen Platz.
  Wir wollen  gemeinsam technisch und politisch arbeiten\, lernen und Spaß
  haben.\n\nDer Abend gestaltet sich grob folgendermaßen:\n\n18:30 Für
  neue Menschen: Vorstellung von Klasse & Methode und Kennenlernen\n\n19:00
  Besprechen der aktuellen Projekte\n\nca 19:30 Freie Gestaltung: Wer
  möchte kann schon an einem Projekt arbeiten. Wir unterstützen uns
  gegenseitig bei Fragen und Problemen. Es kann aber auch gemütlich bei
  einem Getränk gequatscht werden.\n\nEnde ca 21:00 Uhr\, je nach Abend
  vielleicht auch länger.\n\nWie  du uns im Prisma findest: In der
  Fußgängerzone (Bahnhofstraße) durchs rote Tor\, dort die Treppe oder
  den Aufzug in den ersten Stock nehmen. Dort durch die Doppel-Glastüre
  und gleich den Gang nach links\, dann direkt rechts in die Commons
  Kitchen.\n\nWir freuen uns auf dich!
LOCATION:Prisma\, Bahnhofstraße 14-18\, 70372 Stuttgart
GEO:48.8024492;9.2171569
ORGANIZER:mailto:Klasse & Methode - IT Kollektiv Stuttgart
END:VEVENT
BEGIN:VEVENT
UID:751fd544-6543-453d-9609-b9360c40d8dc
SUMMARY:Offenes Treffen IT Kollektiv
DTSTART:20260806T163000Z
URL:https://eintopf.info/event/751fd544-6543-453d-9609-b9360c40d8dc
DTEND:20260806T190000Z
CATEGORIES:Offenes Treffen\,IT
DESCRIPTION:Jetzt 2 mal im Monat im neuen Format!\n\nDu interessierst dich
  für IT im Allgemeinen\, Webentwicklung oder  Design im speziellen? Du
  wolltest schon immer mal die Menschen hinter  EINTOPF kennen lernen und
  wissen was wir sonst noch für Projekte machen?  Du hast eine Projektidee
  und suchst gleichgesinnte mit denen du sie umsetzen kannst? Dann komm zu
  unserem offenen Treffen im neuen Format.\n\nUm bei uns im Kollektiv
  mitmachen zu  können musst du nicht studiert haben oder Javascript-Profi
  sein\, bei uns  finden auch interessierte Anfänger*innen einen Platz.
  Wir wollen  gemeinsam technisch und politisch arbeiten\, lernen und Spaß
  haben.\n\nDer Abend gestaltet sich grob folgendermaßen:\n\n18:30 Für
  neue Menschen: Vorstellung von Klasse & Methode und Kennenlernen\n\n19:00
  Besprechen der aktuellen Projekte\n\nca 19:30 Freie Gestaltung: Wer
  möchte kann schon an einem Projekt arbeiten. Wir unterstützen uns
  gegenseitig bei Fragen und Problemen. Es kann aber auch gemütlich bei
  einem Getränk gequatscht werden.\n\nEnde ca 21:00 Uhr\, je nach Abend
  vielleicht auch länger.\n\nWie  du uns im Prisma findest: In der
  Fußgängerzone (Bahnhofstraße) durchs rote Tor\, dort die Treppe oder
  den Aufzug in den ersten Stock nehmen. Dort durch die Doppel-Glastüre
  und gleich den Gang nach links\, dann direkt rechts in die Commons
  Kitchen.\n\nWir freuen uns auf dich!
LOCATION:Prisma\, Bahnhofstraße 14-18\, 70372 Stuttgart
GEO:48.8024492;9.2171569
ORGANIZER:mailto:Klasse & Methode - IT Kollektiv Stuttgart
END:VEVENT
BEGIN:VEVENT
UID:ae05a245-71cf-460b-8a86-545b0701fe19
SUMMARY:Offenes Treffen IT Kollektiv
DTSTART:20260820T163000Z
URL:https://eintopf.info/event/ae05a245-71cf-460b-8a86-545b0701fe19
DTEND:20260820T190000Z
CATEGORIES:Offenes Treffen\,IT
DESCRIPTION:Jetzt 2 mal im Monat im neuen Format!\n\nDu interessierst dich
  für IT im Allgemeinen\, Webentwicklung oder  Design im speziellen? Du
  wolltest schon immer mal die Menschen hinter  EINTOPF kennen lernen und
  wissen was wir sonst noch für Projekte machen?  Du hast eine Projektidee
  und suchst gleichgesinnte mit denen du sie umsetzen kannst? Dann komm zu
  unserem offenen Treffen im neuen Format.\n\nUm bei uns im Kollektiv
  mitmachen zu  können musst du nicht studiert haben oder Javascript-Profi
  sein\, bei uns  finden auch interessierte Anfänger*innen einen Platz.
  Wir wollen  gemeinsam technisch und politisch arbeiten\, lernen und Spaß
  haben.\n\nDer Abend gestaltet sich grob folgendermaßen:\n\n18:30 Für
  neue Menschen: Vorstellung von Klasse & Methode und Kennenlernen\n\n19:00
  Besprechen der aktuellen Projekte\n\nca 19:30 Freie Gestaltung: Wer
  möchte kann schon an einem Projekt arbeiten. Wir unterstützen uns
  gegenseitig bei Fragen und Problemen. Es kann aber auch gemütlich bei
  einem Getränk gequatscht werden.\n\nEnde ca 21:00 Uhr\, je nach Abend
  vielleicht auch länger.\n\nWie  du uns im Prisma findest: In der
  Fußgängerzone (Bahnhofstraße) durchs rote Tor\, dort die Treppe oder
  den Aufzug in den ersten Stock nehmen. Dort durch die Doppel-Glastüre
  und gleich den Gang nach links\, dann direkt rechts in die Commons
  Kitchen.\n\nWir freuen uns auf dich!
LOCATION:Prisma\, Bahnhofstraße 14-18\, 70372 Stuttgart
GEO:48.8024492;9.2171569
ORGANIZER:mailto:Klasse & Methode - IT Kollektiv Stuttgart
END:VEVENT
BEGIN:VEVENT
UID:ec8d2907-bb05-477b-b92e-625a30ad13fb
SUMMARY:Offenes Treffen IT Kollektiv
DTSTART:20260903T163000Z
URL:https://eintopf.info/event/ec8d2907-bb05-477b-b92e-625a30ad13fb
DTEND:20260903T190000Z
CATEGORIES:Offenes Treffen\,IT
DESCRIPTION:Jetzt 2 mal im Monat im neuen Format!\n\nDu interessierst dich
  für IT im Allgemeinen\, Webentwicklung oder  Design im speziellen? Du
  wolltest schon immer mal die Menschen hinter  EINTOPF kennen lernen und
  wissen was wir sonst noch für Projekte machen?  Du hast eine Projektidee
  und suchst gleichgesinnte mit denen du sie umsetzen kannst? Dann komm zu
  unserem offenen Treffen im neuen Format.\n\nUm bei uns im Kollektiv
  mitmachen zu  können musst du nicht studiert haben oder Javascript-Profi
  sein\, bei uns  finden auch interessierte Anfänger*innen einen Platz.
  Wir wollen  gemeinsam technisch und politisch arbeiten\, lernen und Spaß
  haben.\n\nDer Abend gestaltet sich grob folgendermaßen:\n\n18:30 Für
  neue Menschen: Vorstellung von Klasse & Methode und Kennenlernen\n\n19:00
  Besprechen der aktuellen Projekte\n\nca 19:30 Freie Gestaltung: Wer
  möchte kann schon an einem Projekt arbeiten. Wir unterstützen uns
  gegenseitig bei Fragen und Problemen. Es kann aber auch gemütlich bei
  einem Getränk gequatscht werden.\n\nEnde ca 21:00 Uhr\, je nach Abend
  vielleicht auch länger.\n\nWie  du uns im Prisma findest: In der
  Fußgängerzone (Bahnhofstraße) durchs rote Tor\, dort die Treppe oder
  den Aufzug in den ersten Stock nehmen. Dort durch die Doppel-Glastüre
  und gleich den Gang nach links\, dann direkt rechts in die Commons
  Kitchen.\n\nWir freuen uns auf dich!
LOCATION:Prisma\, Bahnhofstraße 14-18\, 70372 Stuttgart
GEO:48.8024492;9.2171569
ORGANIZER:mailto:Klasse & Methode - IT Kollektiv Stuttgart
END:VEVENT
BEGIN:VEVENT
UID:9b7a1f81-f079-48e6-b849-f9fd4999bd80
SUMMARY:Offenes Treffen IT Kollektiv
DTSTART:20260917T163000Z
URL:https://eintopf.info/event/9b7a1f81-f079-48e6-b849-f9fd4999bd80
DTEND:20260917T190000Z
CATEGORIES:Offenes Treffen\,IT
DESCRIPTION:Jetzt 2 mal im Monat im neuen Format!\n\nDu interessierst dich
  für IT im Allgemeinen\, Webentwicklung oder  Design im speziellen? Du
  wolltest schon immer mal die Menschen hinter  EINTOPF kennen lernen und
  wissen was wir sonst noch für Projekte machen?  Du hast eine Projektidee
  und suchst gleichgesinnte mit denen du sie umsetzen kannst? Dann komm zu
  unserem offenen Treffen im neuen Format.\n\nUm bei uns im Kollektiv
  mitmachen zu  können musst du nicht studiert haben oder Javascript-Profi
  sein\, bei uns  finden auch interessierte Anfänger*innen einen Platz.
  Wir wollen  gemeinsam technisch und politisch arbeiten\, lernen und Spaß
  haben.\n\nDer Abend gestaltet sich grob folgendermaßen:\n\n18:30 Für
  neue Menschen: Vorstellung von Klasse & Methode und Kennenlernen\n\n19:00
  Besprechen der aktuellen Projekte\n\nca 19:30 Freie Gestaltung: Wer
  möchte kann schon an einem Projekt arbeiten. Wir unterstützen uns
  gegenseitig bei Fragen und Problemen. Es kann aber auch gemütlich bei
  einem Getränk gequatscht werden.\n\nEnde ca 21:00 Uhr\, je nach Abend
  vielleicht auch länger.\n\nWie  du uns im Prisma findest: In der
  Fußgängerzone (Bahnhofstraße) durchs rote Tor\, dort die Treppe oder
  den Aufzug in den ersten Stock nehmen. Dort durch die Doppel-Glastüre
  und gleich den Gang nach links\, dann direkt rechts in die Commons
  Kitchen.\n\nWir freuen uns auf dich!
LOCATION:Prisma\, Bahnhofstraße 14-18\, 70372 Stuttgart
GEO:48.8024492;9.2171569
ORGANIZER:mailto:Klasse & Methode - IT Kollektiv Stuttgart
END:VEVENT
BEGIN:VEVENT
UID:b33ecf8e-cf1a-4677-85f3-37c121be664a
SUMMARY:Offenes Treffen IT Kollektiv
DTSTART:20261001T163000Z
URL:https://eintopf.info/event/b33ecf8e-cf1a-4677-85f3-37c121be664a
DTEND:20261001T190000Z
CATEGORIES:Offenes Treffen\,IT
DESCRIPTION:Jetzt 2 mal im Monat im neuen Format!\n\nDu interessierst dich
  für IT im Allgemeinen\, Webentwicklung oder  Design im speziellen? Du
  wolltest schon immer mal die Menschen hinter  EINTOPF kennen lernen und
  wissen was wir sonst noch für Projekte machen?  Du hast eine Projektidee
  und suchst gleichgesinnte mit denen du sie umsetzen kannst? Dann komm zu
  unserem offenen Treffen im neuen Format.\n\nUm bei uns im Kollektiv
  mitmachen zu  können musst du nicht studiert haben oder Javascript-Profi
  sein\, bei uns  finden auch interessierte Anfänger*innen einen Platz.
  Wir wollen  gemeinsam technisch und politisch arbeiten\, lernen und Spaß
  haben.\n\nDer Abend gestaltet sich grob folgendermaßen:\n\n18:30 Für
  neue Menschen: Vorstellung von Klasse & Methode und Kennenlernen\n\n19:00
  Besprechen der aktuellen Projekte\n\nca 19:30 Freie Gestaltung: Wer
  möchte kann schon an einem Projekt arbeiten. Wir unterstützen uns
  gegenseitig bei Fragen und Problemen. Es kann aber auch gemütlich bei
  einem Getränk gequatscht werden.\n\nEnde ca 21:00 Uhr\, je nach Abend
  vielleicht auch länger.\n\nWie  du uns im Prisma findest: In der
  Fußgängerzone (Bahnhofstraße) durchs rote Tor\, dort die Treppe oder
  den Aufzug in den ersten Stock nehmen. Dort durch die Doppel-Glastüre
  und gleich den Gang nach links\, dann direkt rechts in die Commons
  Kitchen.\n\nWir freuen uns auf dich!
LOCATION:Prisma\, Bahnhofstraße 14-18\, 70372 Stuttgart
GEO:48.8024492;9.2171569
ORGANIZER:mailto:Klasse & Methode - IT Kollektiv Stuttgart
END:VEVENT
END:VCALENDAR
