BEGIN:VCALENDAR
VERSION:2.0
PRODID:eintopf.info
METHOD:REQUEST
BEGIN:VEVENT
UID:fe5c0c1d-5649-4d27-9920-cb44886f587a
SUMMARY:Live: Abdul Rahman Alali
DTSTART:20250525T130000Z
URL:https://eintopf.info/event/fe5c0c1d-5649-4d27-9920-cb44886f587a
CATEGORIES:Konzert & Party\,Sonstiges
DESCRIPTION:Der junge Pianist brachte sich das Klavier spielen selbst bei\,
  ohne Lehrer und Noten. Mit bekannten Stücken sowie eigenen Kompositionen
  berührt er die Menschen und stiftet Hoffnung.
LOCATION:PLEKS.Fellbach\, Schorndorferstr 37/1\, 70736 Fellbach
GEO:48.8157601;9.2822573
ORGANIZER:mailto:PLEKS.Fellbach
END:VEVENT
END:VCALENDAR
