BEGIN:VCALENDAR
VERSION:2.0
PRODID:eintopf.info
METHOD:REQUEST
BEGIN:VEVENT
UID:fb5350aa-9dfb-4067-a8b4-f11a7a05eb51
SUMMARY:Energiewende braucht Rückenwind statt Rollback!
DTSTART:20260221T080000Z
URL:https://eintopf.info/event/fb5350aa-9dfb-4067-a8b4-f11a7a05eb51
DTEND:20260221T090000Z
CATEGORIES:Demonstration\,Klimagerechtigkeit
DESCRIPTION:Rolle rückwärts bei der Energiewende? Nicht mit uns!\n\nDie
  Klimakrise eskaliert und die CDU macht Politik gegen die Erneuerbaren –
  weniger Tempo bei Wind und Solar\, mehr fossiles Erdgas. Das können wir
  nicht unwidersprochen lassen und setzen daher beim Bundesparteitag in
  Stuttgart ein sichtbares Zeichen.\n\nWir haben bereits gezeigt\, dass
  zivilgesellschaftlicher Druck wirkt. Jetzt heißt es: dranbleiben und
  gemeinsam einstehen. Wir fordern:\n\n️✔️ Beschleunigten Ausbau von
  Wind- und Solarenergie\n✔️ Energieeffizienz statt fossiler
  Abhängigkeit\n✔️ Verlässliche Klimaziele\n✔️ Eine bezahlbare\,
  sichere und klimafreundliche Energieversorgung\n\n✊ Teile diese
  Veranstaltung\, komm vorbei\, bring Freund*innen mit und mach deutlich:
  Die Energiewende bleibt.\n\n#EnergiewendeBleibt #Klimaschutz #Stuttgart
  #Bundesparteitag
LOCATION:Messe Stuttgart\, Messepiazza 1\, 70771 Leinfelden-Echterdingen\,
  Vor dem Eingang des ICS (International Congress Center Stuttgart)
GEO:48.6933037;9.1914334
ORGANIZER:mailto:BUND Baden-Württemberg 
END:VEVENT
END:VCALENDAR
