BEGIN:VCALENDAR
VERSION:2.0
PRODID:eintopf.info
METHOD:REQUEST
BEGIN:VEVENT
UID:fb1eb447-31fc-43cd-8d64-e1b4dabcc9e8
SUMMARY:Aktzeichnen im DemoZ
DTSTART:20251008T170000Z
URL:https://eintopf.info/event/fb1eb447-31fc-43cd-8d64-e1b4dabcc9e8
CATEGORIES:DIY\,Sonstiges
DESCRIPTION:Das DemoZ lädt in unregelmäßigen Abständen alle\, die Lust
  dazu haben\, zum Zeichnen ein. Die Termine dazu finden sich immer in
  unserer Programm-Übersicht. Bei den Abenden handelt es sich dann um
  Einzeltermine – keine Kurse oder Workshops!\n\nEine Anmeldung ist nicht
  erforderlich. Dieses Mal gibt es noch folgende Termine:\n\n8.
  Oktober\n\n15. Oktober\n\n22. Oktober\n\n29. Oktober\n\nDie Veranstaltung
  kostet 8\,00 Euro Eintritt – ermäßigt 5\,00 Euro für
  Studierende/Auszubildende/Arbeitslose/Menschen mit geringem
  Einkommen/etc.
LOCATION:Demokratisches Zentrum Ludwigsburg (DemoZ)\,  Wilhelmstr. 45/1
  71638 Ludwigsburg 
GEO:48.89585;9.18429
ORGANIZER:mailto:Demokratisches Zentrum Ludwigsburg (DemoZ)
END:VEVENT
END:VCALENDAR
