BEGIN:VCALENDAR
VERSION:2.0
PRODID:eintopf.info
METHOD:REQUEST
BEGIN:VEVENT
UID:fa6e8331-4012-48ea-88db-0ce7b9be7ae2
SUMMARY:Wie weiter mit Rojava? - Aktuelle Situation und Perspektiven
DTSTART:20251024T180000Z
URL:https://eintopf.info/event/fa6e8331-4012-48ea-88db-0ce7b9be7ae2
CATEGORIES:Vortrag\,Antimilitarismus
DESCRIPTION:
LOCATION:Wartesaal – Kultur in Besigheim e.V.\, Weinstr. 11\, 74354
  Besigheim
GEO:48.9976518;9.1367823
ORGANIZER:mailto:attac Besigheim
END:VEVENT
END:VCALENDAR
