BEGIN:VCALENDAR
VERSION:2.0
PRODID:eintopf.info
METHOD:REQUEST
BEGIN:VEVENT
UID:f98c4498-c869-42a1-ae13-91aa15a80511
SUMMARY:Gasparitsch-Kneipe
DTSTART:20251205T180000Z
URL:https://eintopf.info/event/f98c4498-c869-42a1-ae13-91aa15a80511
DTEND:20251205T215000Z
CATEGORIES:Gesellig\,Sonstiges
DESCRIPTION:jeden Freitag ab 20 Uhr mit leckerem Essen\, Getränke – in
  netter Atmosphäre
LOCATION:Stadtteilzentrum Gasparitsch\, Rotenbergstr. 125\, 70190 Stuttgart
GEO:48.788058;9.2116285
ORGANIZER:mailto:Stadtteilzentrum Gasparitsch
END:VEVENT
END:VCALENDAR
