BEGIN:VCALENDAR
VERSION:2.0
PRODID:eintopf.info
METHOD:REQUEST
BEGIN:VEVENT
UID:f8d415ee-e0c8-47d3-93f7-7b78c05f5a40
SUMMARY:ganz einfach - Ein Stück über Arbeit oder ein Stück Arbeit
DTSTART:20260118T160000Z
URL:https://eintopf.info/event/f8d415ee-e0c8-47d3-93f7-7b78c05f5a40
DTEND:20260118T170000Z
CATEGORIES:Theater\,Kunst
DESCRIPTION:ganz einfach \nEin Stück Arbeit oder ein Stück über Arbeit 
  \nTheater\, Musik & Slapstick  \n\nEinlass 16h30\nmit Kaffee und
  anschließendem Austausch \n \n\nWir arbeiten und in der Pause arbeiten
  wir nicht. Ganz einfach.  \nWir arbeiten und in der Pause machen wir
  unbezahlte Arbeit.  \nWir arbeiten und in der Pause sammeln wir Kraft\,
  damit wir danach weiterarbeiten können.  \n\nDrei gehen zur Arbeit. Die
  Arbeit ist das\, was sie gemeinsam haben. Was Arbeit – und die
  Abwesenheit von Arbeit – für sie bedeutet\, finden sie erst noch
  heraus: Clownesk und todernst\, mit Autoritätsfaxen\, Wohlfühlgerüchen
  und Alltagsobjekten versuchen sie\, sich die Arbeitswelt zu erzählen. 
  \n\nDabei produzieren sie am Fließband Elefanten und untersuchen die
  Büro-Hackordnung. Sie schwitzen in Aufzügen\, die ins obere Stockwerk
  fahren\, träumen vom Faulsein\, scheitern an Kreativität und
  Produktivität und kochen einen Kaffee nach dem anderen. Und wenn sie
  Glück haben\, singen sie ein kleines Lied und sprechen einige
  vernünftige Worte. \n\nIm Anschluss an das Stück laden wir bei einem
  Getränk zum offenen Austausch ein.  \n\n \n\nLänge: ca. 60 Min. \nmit
  anschließendem Austausch \nGeeignet ab: ca. 12 Jahre \nIn deutscher
  Lautsprache \n\n\n  \n\nTEAM \nKonzept: Jule Lotte Bröcker\, Paula
  Scheschonka\, Ulrike Schulze\, Sophie Richter  \nSpiel: Jule Lotte
  Bröcker\, Paula Scheschonka\, Ulrike Schulze  \nRegie/Dramaturgie: Lea
  Merten  \nMusikalische Betreuung und Improvisation: Iris Eckert 
  \nSlapstick: Sebastian Utecht\nFotos: Leo Röcker \n\n\n\nFörderhinweis:
  Dieses Projekt wird ermöglicht durch die Projektförderung des
  Landesverbandes Freie Tanz- und Theaterschaffende Baden-Württemberg
  (LaFT BW) e.V.\, der Freien Tanz- und Theaterszene Stuttgart (FTTS
  Stuttgart) und unterstützt von der Stiftung Landesbank
  Baden-Württemberg.
LOCATION:Sunny High Club\, Bahnhofstr. 14\, 70372 Stuttgart
GEO:48.8025406;9.2170963
ORGANIZER:mailto:ganz einfach kollektiv
END:VEVENT
END:VCALENDAR
