BEGIN:VCALENDAR
VERSION:2.0
PRODID:eintopf.info
METHOD:REQUEST
BEGIN:VEVENT
UID:f81df71d-1862-4dc5-9bf6-d12345a0a21a
SUMMARY:Foodsharing Neulingstreffen
DTSTART:20221116T180000Z
URL:https://eintopf.info/event/f81df71d-1862-4dc5-9bf6-d12345a0a21a
DESCRIPTION:Du hast Lust\, dich ehrenamtlich bei foodsharing Stuttgart zu
  engagieren und Lebensmittel bei Kooperationsbetrieben abzuholen?\n\nKomm
  zum Neulingstreffen von foodsharing! Hier bekommt ihr wichtige Infos zur
  Lebensmittelverschwendung allgemein sowie zum Ablauf und Regeln für das
  Retten und Fairteilen. Vor allem aber lernt ihr die Menschen hinter
  foodsharing kennen\, die euch erklären\, wie genau foodsharing
  funktioniert\, damit ihr bald selbstständig Lebensmittel retten könnt.
  Auch Team Raupe ist mit dabei und zeigt\, wie die Abgaben im Café
  laufen.\n\nKeine Voranmeldung erforderlich.\n
LOCATION:Raupe Immersatt\, Johannesstraße 97\, Stuttgart
GEO:48.782018;9.1579717
ORGANIZER:mailto:Foodsharing Stuttgart,Raupe Immersatt
END:VEVENT
END:VCALENDAR
