BEGIN:VCALENDAR
VERSION:2.0
PRODID:eintopf.info
METHOD:REQUEST
BEGIN:VEVENT
UID:f8158e32-bdc3-42d6-919a-4ca8bda3f927
SUMMARY:„NEUBAU. Ein Heimatfilm“ – Filmvorführung mit
  anschließender Gesprächsrunde
DTSTART:20241113T180000Z
URL:https://eintopf.info/event/f8158e32-bdc3-42d6-919a-4ca8bda3f927
CATEGORIES:Kino\,Queer
DESCRIPTION:Am 13. November 2024 um 19 Uhr zeigen das Landesmuseum
  Württemberg und das Projekt\n100% MENSCH den queeren Heimatfilm
  „NEUBAU“ im Museumsfoyer Dürnitz. Der Film erzählt\ndie bewegende
  Geschichte von Markus\, einem schwulen trans Mann\, der zwischen der
  Fürsorge\nfür seine Großmütter und seiner Sehnsucht nach Freiheit in
  der queeren Community Berlins hin-\nund hergerissen ist.\n\nIm Anschluss
  an die Vorführung findet eine Gesprächsrunde über queeres Leben im
  Alter mit\nSkadi Zimborski (Einrichtungsleiterin im Wohnquartier
  Steckfeld) und Frank Ulrich\n(Geschäftsführer der Paritätischen
  Sozialdienste) statt. 💬\n\nDer Abend findet im Rahmen des Festivals
  „Kino ganz nah – 2. Stuttgarter Filmfest der\nGenerationen“ statt. 
LOCATION:Landesmuseum Württemberg\, Stuttgart\, Altes Schloss\,
  Schillerpl. 6\, 70173 Stuttgart\, Museumsfoyer Dürnitz
ORGANIZER:mailto:Projekt 100% MENSCH
END:VEVENT
END:VCALENDAR
