BEGIN:VCALENDAR
VERSION:2.0
PRODID:eintopf.info
METHOD:REQUEST
BEGIN:VEVENT
UID:f76045a2-4e8b-4ec1-adee-946a8a2a8d9c
SUMMARY:Active Culture & Filmscreening »we shall sing songs of love«
DTSTART:20230929T170000Z
URL:https://eintopf.info/event/f76045a2-4e8b-4ec1-adee-946a8a2a8d9c
DESCRIPTION:In Kooperation mit dem Jugendwerk der AWO Württemberg
  e.V.\n\nMit einem Kurzfilm von Aidan Jakfar\n\n(Farsi mit englischen
  Untertiteln)\n\n\n* English below *\n\n\nIn dem Kurzfilm »we shall sing
  songs of love« von Aidan Jakfar hören wir die Stimme einer Frau\, die
  in den späten 1990er Jahren mit ihrer Familie aus Afghanistan nach
  Deutschland geflohen ist. Sie erzählt von ihrem neuen Leben\, dem ihrer
  Kinder und dem anderer Geflüchteter in einer Kleinstadt und in der
  deutschen Gesellschaft.\n\nWir laden euch herzlich zu diesem Abend ein\,
  um bei leckerem afghanischen Essen unsere Gedanken und Erfahrungen
  auszutauschen.\n​\n\n***\n\n\nIn the short movie »we shall sing songs
  of love« by Aidan Jakfar\, we listen to the voice of a woman who fled
  from Afghanistan to Germany with her family in the late 1990s. She shares
  stories of her\, her children's and other refugees' new lifes in a small
  town and in the German society.\n\nWe warmly invite you to join us for
  this evening to share our thoughts and experiences while enjoying
  delicious Afghan food.\n\n\n\n\nBild: Aidan Jakfar\, we shall sing songs
  of love\, 2021\, Filmstill.
LOCATION:Chloroplast Stuttgart e.V. (ehemaliges Walz Areal)\,
  Solitudestr.99 70499 Stuttgart
GEO:48.80547645;9.102712875319838
ORGANIZER:mailto:Chloroplast Stuttgart e.V.,Jugendwerk der AWO Württemberg
  e.V.
END:VEVENT
END:VCALENDAR
