BEGIN:VCALENDAR
VERSION:2.0
PRODID:eintopf.info
METHOD:REQUEST
BEGIN:VEVENT
UID:f6ec145e-52dc-4e8e-886a-eba22752574c
SUMMARY:Queering Urban Spaces - Can the monster speak? Lesung von Dreaming
  in Women* über Engel\, Monster und andere queere Kreaturen
DTSTART:20250914T110000Z
URL:https://eintopf.info/event/f6ec145e-52dc-4e8e-886a-eba22752574c
CATEGORIES:Sonstiges\,Queer
DESCRIPTION:Das Kollektiv Dreaming in Women* liest angekündigt und
  unangekündigt im privaten und öffentlichen Raum. Gemeinsames lautes
  Lesen wird dabei zum Protest\, zum Gespräch\, zur Gemeinschaft und zur
  poetischen Forschung.\nUnsere Gedanken und Wörter verbinden sich mit
  ambivalenten Wesen aus mythologischen und religiösen Geschichten\, die
  wir als fluide\, transzendente Grenzgänger lesen.\nDie Texte der Lesung
  sind auf Deutsch und/oder Englisch\, wir helfen uns gegenseitig beim
  Übersetzen. Die Lesung ist offen für alle\, insbesondere für
  FLINTA*.\n\nDer Titel ist dem gleichnamigen Buch P. Preciados entliehen
LOCATION:UTOPIA Kiosk\, Lazarettstraße 5\, 70182 Stuttgart
GEO:48.7730256;9.18134848847793
ORGANIZER:mailto:UTOPIA Kiosk
END:VEVENT
END:VCALENDAR
