BEGIN:VCALENDAR
VERSION:2.0
PRODID:eintopf.info
METHOD:REQUEST
BEGIN:VEVENT
UID:f42dd35f-1585-4de4-a58b-42a70125573e
SUMMARY:Klimagerechtigkeit wird in den Städten entschieden - Stuttgart
  klimaneutral bis 2030\, wie?
DTSTART:20210724T173000Z
URL:https://eintopf.info/event/f42dd35f-1585-4de4-a58b-42a70125573e
DTEND:20210724T190000Z
DESCRIPTION:\nPodiumsdiskussion mit Andreas Hofer (iba27)\, Britta
  Mösinger (Leerstandsmelder)\, Marianne Kreichgauer (Fuss e.V.)\, Ulrich
  Heck (Quartierswerkstatt Augustenstraße)\n\nWie sehr kann man das Auto
  lieben? Stuttgart: Ja!\nIn einer Stadt\, in der eine ganze Partyreihe*
  schon den Namen einer Automarke trug klimagerechte Politik machen\, wie
  geht das überhaupt? Wie lässt sich klimagerechte Mobilität
  durchsetzen\, wenn noch immer ein guter Teil der Radwege plötzlich im
  Nirvana (und mit Nirvana meinen wir den Charlottenplatz)enden\, sich
  Menschen auf dem Fahrrad regelmäßig größte Mühe geben müssen\, der
  Dooring-Zone auszuweichen\, sich Fußgänger*innen auf schmalen Trottoirs
  drängen müssen\, während Autos auf sechsspurigen Straßen durch die
  Innenstadt düsen können? Und dann wäre da noch die Sache mit dem
  Wohnen: Trotz Saunatemperaturen im Sommer und dem Österreichischen Platz
  wohnen wir gerne hier und wollen das auch in einigen Jahren noch tun
  können - was können wir tun\, damit Wohnen klimaneutral und bezahlbar
  für alle möglich ist? \n(*Benztown Catchafire\, die älteren erinnern
  sich)\n
LOCATION:Kesselbambule Klimacamp 2021\, Wird noch bekannt gegeben
ORGANIZER:mailto:Kesselbambule
END:VEVENT
END:VCALENDAR
