BEGIN:VCALENDAR
VERSION:2.0
PRODID:eintopf.info
METHOD:REQUEST
BEGIN:VEVENT
UID:f3f42f12-4ec9-4af2-9f6f-bc108329b429
SUMMARY:Was ist und wie geht SoLaWiS
DTSTART:20251007T160000Z
URL:https://eintopf.info/event/f3f42f12-4ec9-4af2-9f6f-bc108329b429
DTEND:20251007T170000Z
CATEGORIES:Offenes Treffen\,Ernährung
DESCRIPTION:Bei diesem Infoabend erfährst du alles\, was zum Mitmachen bei
  der Solidarischen Landwirtschaft Stuttgart wichtig ist. Die nächste
  Saison beginnt im Januar 2026. Aber bereits Ende November 2025 machen wir
  eine Bietrunde\, an der alle teilnehmen\, die (wieder) dabei sein wollen.
  Mit etwas Glück kannst du auch schon während der Saison reintauschen\,
  wenn ein anderes Mitglied seinen Anteil abgibt.
LOCATION:Reyerhof\, Unteraicher Str. 8\, 70567 Stuttgart
GEO:48.7244278;9.144928017131475
ORGANIZER:mailto:Solidarische Landwirtschaft Stuttgart,Essbare Region
  Stuttgart
END:VEVENT
END:VCALENDAR
