BEGIN:VCALENDAR
VERSION:2.0
PRODID:eintopf.info
METHOD:REQUEST
BEGIN:VEVENT
UID:f3eafd28-0d36-4165-a4be-35da933c01c9
SUMMARY:Buchvorstellung: Alles für alle. Revolution als Commonisierung
DTSTART:20240619T173000Z
URL:https://eintopf.info/event/f3eafd28-0d36-4165-a4be-35da933c01c9
CATEGORIES:Vortrag\,Politische Ökonomie
DESCRIPTION:Die sich zuspitzende Klimakrise macht es deutlich wie noch nie:
  Wir müssen die Notbremse ziehen. Wir müssen raus aus dem Kapitalismus!
  — so die Autorinnen. Doch je klarer diese Erkenntnis\, desto
  auswegloser erscheint unsere Situation. Denn bisherige Wege\, den
  Kapitalismus über den Staat zu bändigen oder zu überwinden\, sind
  gescheitert. Deshalb sucht dieses Buch nach neuen Wegen in eine
  solidarische Gesellschaft.\nBei Commons\, in denen bereits heute
  selbstorganisiert jenseits von Markt und Staat Bedürfnisse verhandelt
  und befriedigt werden. Bei sozialen Bewegungen\, die das Bestehende in
  Frage stellen und solidarische Beziehungen aufbauen. Und bei
  alltäglichen Kämpfen in Betrieben\, Stadtteilen und Küchen\, in denen
  Menschen sich dagegen auflehnen\, dass ihr Leben von Kapital und
  Patriarchat bestimmt wird. Doch oft zerschellen diese Ansätze an der
  Totalität des Kapitalismus\, in dem nicht Alles für alle gilt\, sondern
  Alle für die Kapitalakkumulation. Was bedeutet es also\, Revolution
  nicht als Eroberung der Macht\, sondern als Commonisierung der Welt zu
  begreifen?\nJonna Klick sucht in undogmatischen Marxismen und
  verschiedenen außerparlamentarischen linken Kontexten nach Wegen\, eine
  Veränderung ums Ganze denkbar und umsetzbar zu machen. Unter anderem ist
  sie Mitglied des Commons-Instituts. Infos zum Buch: «Alles für alle.
  Revolution als Commonisierung» (Schmetterling Verlag 2024).
LOCATION:Raupe Immersatt\, Johannesstraße 97\, Stuttgart
GEO:48.782018;9.1579717
ORGANIZER:mailto:Jonna Klick; Veranstaltende: Schmetterling Verlag,
  Emanzipation&Frieden, teilbar e.V., Rosa Luxemburg Stiftung
  Baden-Württemberg, Raupe Immersatt
END:VEVENT
END:VCALENDAR
