BEGIN:VCALENDAR
VERSION:2.0
PRODID:eintopf.info
METHOD:REQUEST
BEGIN:VEVENT
UID:f3d4d108-dec1-4b71-a18c-f49cbdf76a2b
SUMMARY:Nachbarschaftsfrühstück
DTSTART:20240407T090000Z
URL:https://eintopf.info/event/f3d4d108-dec1-4b71-a18c-f49cbdf76a2b
DTEND:20240407T120000Z
DESCRIPTION:Ein Kennenlernen und Austausch in lockerer Atmosphäre für
  Familien\, Rentner und Alleinstehende mit Spielmöglichkeiten für
  Kinder.\n\nDAS PRINZIP IST EINFACH: VORBEIKOMMEN & SPASS HABEN!\n\nFür
  den Grundstock ist gesorgt. Bringt gerne Essen\, Trinken und Spielsachen
  für alle mit. Außerdem eure Familie\, Freunde und Bekannte Der
  Grundstock besteht aus: Brot\, Brotaufstrich\, Belag (Käse & Wurst)\,
  Kaffee\, Tee\, Milch\, Gemüse\, Obst & Butter
LOCATION:Stadtteilzentrum Gasparitsch\, Rotenbergstr. 125\, 70190 Stuttgart
GEO:48.788058;9.2116285
ORGANIZER:mailto:Stadtteilzentrum Gasparitsch
END:VEVENT
END:VCALENDAR
