BEGIN:VCALENDAR
VERSION:2.0
PRODID:eintopf.info
METHOD:REQUEST
BEGIN:VEVENT
UID:f39333e4-c472-4dc9-913a-a867299ed1fb
SUMMARY:Veganer Mitbringbrunch mit Vortrag
DTSTART:20250309T100000Z
URL:https://eintopf.info/event/f39333e4-c472-4dc9-913a-a867299ed1fb
DTEND:20250309T130000Z
CATEGORIES:Gesellig\,Tierrechte
DESCRIPTION:Unser Brunch findet am Sonntag im Bürgerhaus in der
  Pliensauvorstadt statt. Beginn ist um 11.00 Uhr\, Einlass ab 10.30 Uhr.
  Jeder Gast bringt ein veganes Gericht mit und schlemmt sich durch die
  mitgebrachten Gerichte der anderen Gäste. Getränke und Brot stellen wir
  kostenlos zur Verfügung\, eine Teilnahmegebühr wird nicht erhoben –
  Spenden sind natürlich gern gesehen. Eine Anmeldung ist nicht
  erforderlich. Der Brunch endet gegen 14.00 Uhr.\n\nBitte melde dich bei
  Fragen unter esslingen@ariwa.org.\n\nVortrag\n\nBei jedem Brunch wird es
  einen besonderen Gast geben\, der/die uns zu den Themen Veganismus\,
  Tierrecht\, Umweltschutz oder/und Nachhaltigkeit neue Denkanstöße gibt.
  Im März 2025 kommt Sonia von Foodsharing Esslingen zu uns mit dem Thema
  „Foodsharing: Verwenden statt verschwenden“.\n\nWas bedeutet
  vegan?\n\nVegan heißt frei von allen tierischen Produkten\, also auch
  Honig\, Joghurt\, Sahne\, tierfetthaltiger Margarine usw.\,  wenn du
  unsicher bist\, melde dich bei uns unter esslingen@ariwa.org. Da auch
  Kinder bei dem Brunch dabei sind\, bitten wir auf alkoholische
  Bestandteile zu verzichten.
LOCATION:Bürgerhaus Pliensausvorstadt\, Weilstraße 8\, Esslingen am
  Neckar
GEO:48.7350472;9.299197814042127
ORGANIZER:mailto:Animal Rights Watch e.V. Ortsgruppe Esslingen
END:VEVENT
END:VCALENDAR
