BEGIN:VCALENDAR
VERSION:2.0
PRODID:eintopf.info
METHOD:REQUEST
BEGIN:VEVENT
UID:f2d9e863-3e31-47cc-bf1b-c3b1f2ed0dcd
SUMMARY:Felderrundgang zu Bodenfruchtbarkeit
DTSTART:20241004T140000Z
URL:https://eintopf.info/event/f2d9e863-3e31-47cc-bf1b-c3b1f2ed0dcd
CATEGORIES:Sonstiges\,Ernährung
DESCRIPTION:Die Bodenfruchtbarkeit in ökologischer Landwirtschaft ist eine
  Kunst. Statt nach Tabellenwert die passende Menge Kunstdünger
  aufzubringen\, muss das Bodenleben so gepflegt werden\, dass die
  Mikroorganismen organisches Material zum passenden Zeitpunkt in
  pflanzenverfügbare Nährstoffe umgewandelt haben. Da spielen eine
  mehrjährige Fruchtfolge\, Zwischenfrüchte und Mist- und Kompost eine
  wichtige Rolle\, aber auch die Bodenbearbeitung mit verschiedenen
  Geräten. Lukas zweigt den aktuellen Zustand des Ackerbodens und gibt
  Einblicke in die Arbeit des Reyerhofs mit dem Boden.
LOCATION:Reyerhof an den Gewächshäusern\, Udamstraße
  Stuttgart-Möhringen
GEO:48.72059;9.1428
ORGANIZER:mailto:Solidarische Landwirtschaft Stuttgart
END:VEVENT
END:VCALENDAR
