BEGIN:VCALENDAR
VERSION:2.0
PRODID:eintopf.info
METHOD:REQUEST
BEGIN:VEVENT
UID:f259aebf-4a94-420b-8f8c-6be86f47e758
SUMMARY:Wege aus der Konfrontation?!  DAS HERZ VON JENIN  -  Film und
  Gespräch
DTSTART:20250205T170000Z
URL:https://eintopf.info/event/f259aebf-4a94-420b-8f8c-6be86f47e758
CATEGORIES:Podiumsdiskussion\,Sonstiges
DESCRIPTION:
LOCATION:Erinnerungsort Hotel Silber\, Dorotheenstraße 10\, 70173
  Stuttgart
ORGANIZER:mailto:Initiative Lern- und Gedenkort Hotel Silber,Heinrich Böll
  Stiftung,Die AnStifter e.V.,NaturFreunde Stuttgart,Stuttgarter
  Stolperstein Initiativen
END:VEVENT
END:VCALENDAR
