BEGIN:VCALENDAR
VERSION:2.0
PRODID:eintopf.info
METHOD:REQUEST
BEGIN:VEVENT
UID:f2475a19-827b-4c75-a20b-7b061ab38ace
SUMMARY:Irie Sunday
DTSTART:20251207T170000Z
URL:https://eintopf.info/event/f2475a19-827b-4c75-a20b-7b061ab38ace
DTEND:20251207T210000Z
CATEGORIES:Konzert & Party\,Sonstiges
DESCRIPTION:Der Irie Sunday ist eine multigenerationale Reggae- und
  Dancehall-Partyreihe\, organisiert von Lucky Punch Soundsystem. Die Musik
  reicht von Roots Reggae über Dancehall bis hin zu Afrobeat. Der Irie
  Sunday fand seit 2003 jeden Sonntag statt und hat seinen Ursprung im
  Landespavillon\, der leider abgerissen wurde. Heute wird die Tradition im
  Sunny High fortgeführt.
LOCATION:Sunny High Club\, Bahnhofstr. 14\, 70372 Stuttgart
GEO:48.8025406;9.2170963
ORGANIZER:mailto:Luck Punch Soundsystem,DJ Afropunk,Sunny High Club
END:VEVENT
END:VCALENDAR
