BEGIN:VCALENDAR
VERSION:2.0
PRODID:eintopf.info
METHOD:REQUEST
BEGIN:VEVENT
UID:f1aa356e-d62d-44b6-99f8-aa5d268b405a
SUMMARY:Globaler Klimastreik - RAUS AUS DEM GASRAUSCH
DTSTART:20260424T133000Z
URL:https://eintopf.info/event/f1aa356e-d62d-44b6-99f8-aa5d268b405a
CATEGORIES:Demonstration\,Klimagerechtigkeit
DESCRIPTION:***RAUS AUS DEM GASRAUSCH***⛽\n\n😤 Statt Energiewende
  sabotiert die Bundesregierung Wind- und Solargenergie\, plant neue
  Gaskraftwerke und Gasbohrungen und verfeuert damit unsere Zukunft und
  unseren Planeten! \nWir nehmen das nicht hin und sind am bundesweiten
  Aktionstag am Freitag dabei!\n\n👉 Wir gehen vor die Parteibüros und
  machen klar:\nKlimaschutz und soziale Gerechtigkeit sind keine
  Nice-to-haves\, sondern Pflicht!\n\n💚 Wir starten um mit einer Aktion
  vor dem CDU-Büro in der Heilbronnerstraße 43 und geben nach einem
  Fahrradaufzug zum SPD-Büro auch dort die Gaskostenrechnung
  auf.\n\n📆\n15:30-16:00 CDU-Aufstand (Heilbronnerstraße
  43)\n16:00-17:00 Fahrradaufzug\n17:00-17:30 SPD-Aufstand (Wilhelmsplatz
  10)\n\nAlso packt eure Plakate und Fahrräder ein\, wir sehen uns am
  Freitag!
LOCATION:Stuttgart\, Heilbronnerstraße 43\, CDU Parteizentrale
ORGANIZER:mailto:FFF Stuttgart
END:VEVENT
END:VCALENDAR
