BEGIN:VCALENDAR
VERSION:2.0
PRODID:eintopf.info
METHOD:REQUEST
BEGIN:VEVENT
UID:f009dcc4-ebce-485d-aa4c-2ef51d2f97eb
SUMMARY:Culture Talks: Der mutige Raum
DTSTART:20260507T180000Z
URL:https://eintopf.info/event/f009dcc4-ebce-485d-aa4c-2ef51d2f97eb
CATEGORIES:Konzert & Party\,Kunst
DESCRIPTION:CULTURE TALKS - ZWEI MUSIK-SETS & EIN HAUFEN GUTER
  GESPRÄCHE!\n\nEuch erwarten musikalische und filmische Beiträge\,
  inspirierende Impulse\, spannende Gespräche und besondere Momente. Alle
  sind willkommen. Niederschwellig und offen. Ein safe und brace Space\, in
  dem wir uns gemeinsam stärken\, (neue) Perspektiven teilen\, kleine und
  große Veränderungen anstoßen und einfach zusammen durchatmen
  können.Kuratiert & gestaltet von Ángela Daza\, Hannah Dorothee Schmidt
  und Karen Lorena Bautista Torres! Und mit folgenden Künstler:innen und
  Speaker:innen:\n\n \n\nAZIZA MARLA UND YOSHI WEBER\nIn der Musik von
  Aziza Marla verschmelzen Einflüsse aus Jazz\, Neo-Soul und RnB. Was
  lange Zeit im Verborgenen blieb\, sind die Gedanken und persönlichen
  Erfahrungen\, die sie im Alltag begleiten. Genau diesen Themen gibt sie
  nun mit ihren eigenen Kompositionen einen
  Raum.\n\nhttps://www.instagram.com/azizamarla/\nhttps://www.instagram.com
 /yoshi.tschira/\n\n \n\nSUN HEE\n\nHerzliche Einladung zum mutigen Raum!
  Wir reflektieren zusammen die Herausforderungen und Chancen des
  Mutig-Seins. Was bedeutet Mut eigentlich? Wie zeigt er sich im Kleinen\,
  in deinem Alltag und in deinen Entscheidungen – und wie im Großen\, in
  unserer gemeinsamen Welt? Wann warst du bereits mutig – vielleicht
  mehr\, als dir bewusst ist? Wo wünschst du dir\, mutiger zu sein? Gerade
  dann\, wenn wir uns mutlos fühlen\, möchten wir einen Raum öffnen\, in
  dem wir genau dort hinschauen: ehrlich\, zugewandt und gemeinsam - ein
  offener Raum zum Teilen\, Zuhören und
  Nachdenken.\n\nhttps://sunhee.de/\n\n 
LOCATION:Raupe Immersatt\, Johannesstraße 97\, Stuttgart
GEO:48.782018;9.1579717
END:VEVENT
END:VCALENDAR
