BEGIN:VCALENDAR
VERSION:2.0
PRODID:eintopf.info
METHOD:REQUEST
BEGIN:VEVENT
UID:eea8ba4b-7127-4317-809a-b67350df18f3
SUMMARY:FINAL GIRL – do it yourself – Konzert und EP-Release
DTSTART:20240224T183000Z
URL:https://eintopf.info/event/eea8ba4b-7127-4317-809a-b67350df18f3
DESCRIPTION:Das Bandprojekt „FINAL GIRL“ richtet im Februar im
  Projektraum OSTEND eine DIY-Werkstatt ein\, in der recycelte Tonträger
  in Form von gebrauchten Musikkassetten neu bespielt werden\, Second Hand
  T-Shirts\, Plakate und andere“Merch“-Artikel werden mit selbst
  gemachtem Band-Artwork per Siebdruck-Technik bedruckt. Während der
  Werkstattphase ist der Raum und die Produktion durch die Schaufenster
  einsehbar und die Türen geöffnet.\nInnerhalb der Produktionszeit
  entsteht nach und nach eine Ausstellungssituation\, die als
  „FINAL-GIRL-SHOP“ gelesen werden kann.\nAls Abschluß findet eine
  Präsentation mit einem Life Konzert selbst verfasster\, selbst
  produzierter und verlegter Songs statt .\n\n„FINAL GIRL“ ist ein
  Musikprojekt das zur Selbstermächtigung im Musikbusiness aufruft und
  speziell Frauen ermutigt zum Instrument zu greifen\, Bands zu gründen
  und auf die Bühne zu gehen. FINAL GIRL steht unterstützend mit Rat und
  Erfahrungsberichten zur Verfügung.\nInnerhalb des umfassenden
  DIY-Konzeptes legen sie Wert auf nachhaltigen Umgang mit Ressourcen
  (alles Recycling) und volle Kontrolle über das eigene Werk.\n\n„FINAL
  GIRL“ sind:\nElin Doka (E-Gitarre\, Vocals\, Songwriting und Artwork)
  und\nDaniela Schübel (E-Bass\, Vocals\, Drum-Machine\, Songwriting\,
  Produktion und Technik)\n\nSamstag\, 24. Februar\nEinlass 19:30 Uhr \,
  Showtime 20:00 Uhr\,\nStadtteilzentrum Gasparitsch\, Rotenbergstrasse
  125\, 70190 Stuttgart\, U4 Ostendplatz\, U9 Raitelsberg\n\nOrganisiert
  vom Projektraum Ostend
LOCATION:Stadtteilzentrum Gasparitsch\, Rotenbergstr. 125\, 70190 Stuttgart
GEO:48.788058;9.2116285
ORGANIZER:mailto:Stadtteilzentrum Gasparitsch
END:VEVENT
END:VCALENDAR
