BEGIN:VCALENDAR
VERSION:2.0
PRODID:eintopf.info
METHOD:REQUEST
BEGIN:VEVENT
UID:edf849b7-a9de-4386-95bf-9386cc23403f
SUMMARY:Cello trifft Gasparitsch: Konzert mit Cello-Duetten für Groß und
  Klein
DTSTART:20260201T100000Z
URL:https://eintopf.info/event/edf849b7-a9de-4386-95bf-9386cc23403f
CATEGORIES:Konzert & Party\,Kunst
DESCRIPTION:Sonntag\, 1. Februar\, 11 Uhr\nim Stadtteilzentrum
  Gasparitsch\nRotenbergstraße 125\, Stuttgart\n\nIhr möchtet in
  entspannter Atmosphäre professionellen Musiker*innen zuhören\, nebenbei
  frühstücken und eine entspannte Zeit haben?\n\nKommt am Sonntag\, 1.
  Januar um 11 Uhr ins Stadtteilzentrum Gasparitsch. Es erwarten euch
  Duette mit zwei Celli\, eine Einführung in die jeweiligen Musikstücke\,
  die Möglichkeit\, nach dem Konzert mit den beiden Musiker*innen zu
  sprechen\, und ein Kennenlernen der Instrumente. Das Konzert findet
  parallel zum Nachbarschaftsfrühstück statt. Also bringt gerne Hunger
  und Lust auf klassische Musik mit 🙂
LOCATION:Stadtteilzentrum Gasparitsch\, Rotenbergstr. 125\, 70190 Stuttgart
GEO:48.788058;9.2116285
ORGANIZER:mailto:Stadtteilzentrum Gasparitsch
END:VEVENT
END:VCALENDAR
