BEGIN:VCALENDAR
VERSION:2.0
PRODID:eintopf.info
METHOD:REQUEST
BEGIN:VEVENT
UID:ed4af463-ced8-4cf0-bdf2-f3847fe38560
SUMMARY:Der Mord an Hermann Schlotterbeck und die Rolle der Gestapo
DTSTART:20241124T100000Z
URL:https://eintopf.info/event/ed4af463-ced8-4cf0-bdf2-f3847fe38560
DTEND:20241124T120000Z
CATEGORIES:Vortrag\,Antifaschismus
DESCRIPTION:Podiumsgespräch und Film-Einspieler mit dem Autor Bernd
  Burkhardt und dem Historiker Ulrich Widmann\nanlässlich des 80.
  Jahrestags der Ermordung der „Schlotterbeck-Gruppe“\nModeration:
  Hermann G. Abmayr\n\nVeranstalter*innen: Initiative Lern- und Gedenkort
  Hotel Silber und Rosa-Luxemburg-Stiftung Baden-Württemberg\n21. April
  1945\, einige Tag vor Kriegsende: Nach monatelanger Haft und Folter im
  Konzentrationslager Welzheim (Rems-Murr-Kreis)  wird der Stuttgarter
  Hermann Schlotterbeck in einem Wald in Riedlingen an der Donau
  erschossen. Zusammen mit Gottlieb Aberle und Andreas Stadler.
  \n\nErmordet vor 80 Jahren\nHermann Schlotterbeck war der Sohn von
  Gotthilf und Maria Schlotterbeck und der Bruder von Gertrud Lutz\, die
  vor 80 Jahren\, am 30. November 1944\, im KZ Dachau hingerichtet worden
  waren. Zusammen mit sieben weiteren NS-Gegnern aus Stuttgart.
  \n\nVerantwortlich für die Morde in Riedlingen waren u. a. der
  Gestapo-Mann Albert Rentschler\, sein Chef Friedrich Mußgay und dessen
  Chef Johannes Thümmler. Thümmler war zu dieser Zeit in Württemberg als
  Kommandeur der Sicherheitspolizei und des Sicherheitsdienstes des
  Reichsführers SS der oberste Polizeichef\, Mußgay Leiter der
  Staatspolizeistelle (Gestapo) Stuttgart. \n\nThümmler und Mußgay\nZuvor
  leitete Thümmler die Gestapo in Chemnitz und Kattowitz\, ein
  Einsatzkommando in Kroatien und im KZ Auschwitz das SS-Standgericht
  Oberschlesien. Dort war er für hunderte Todesurteile verantwortlich.
  \nMußgay nahm sich nach dem Krieg das Leben. Thümmler begann in
  Baden-Württemberg bei einem großen Unternehmen eine neue Karriere. Er
  musste sich nie vor einem bundesdeutschen Gericht verantworten.\n\n
LOCATION:Erinnerungsort Hotel Silber\, Dorotheenstraße 10\, 70173
  Stuttgart
ORGANIZER:mailto:Initiative Lern- und Gedenkort Hotel
  Silber,Rosa-Luxemburg-Stiftung Baden-Württemberg
END:VEVENT
END:VCALENDAR
