BEGIN:VCALENDAR
VERSION:2.0
PRODID:eintopf.info
METHOD:REQUEST
BEGIN:VEVENT
UID:eb5b10d8-1938-4127-82f3-c52ca68ac846
SUMMARY:Protestzug für Julian Assange
DTSTART:20240411T143000Z
URL:https://eintopf.info/event/eb5b10d8-1938-4127-82f3-c52ca68ac846
DESCRIPTION:Freiheit für Julian Assange\nohne Anklage u. ohne Urteil seit
  5 Jahren = 1828 Tage in Isolationshaft im Hochsicherheitsgefängnis
  Belmarsh in London\n\nDemozug: Querspange (Königstraße 78) über
  Eberhardstr. - Marktplatz - Schillerplatz - Bolzstr. - Kronprinzenplatz -
  Querspange\n\nhttps://freeassange.eu/
LOCATION:Stuttgart Königstraße 78\, Querspange über Eberhardstr. -
  Marktplatz - Schillerplatz - Bolzstr. - Kronprinzenplatz - Querspange
ORGANIZER:mailto:Assange Mahnwache Stuttgart
END:VEVENT
END:VCALENDAR
