BEGIN:VCALENDAR
VERSION:2.0
PRODID:eintopf.info
METHOD:REQUEST
BEGIN:VEVENT
UID:eb07bdcf-816f-4b86-b60e-9b8baf3f601c
SUMMARY:radioSCHAUen: Phil. Café - Freie Selbstwahl oder leibliche
  Festschreibungen? Perspektiven auf Geschlecht und Geschlechtlichkeit.
DTSTART:20221211T130000Z
URL:https://eintopf.info/event/eb07bdcf-816f-4b86-b60e-9b8baf3f601c
DTEND:20221211T150000Z
DESCRIPTION:Live im Foyer\, On Air 99.2 und im Videostream
  (https://youtu.be/rYbaHGCW4-E)\n\nMit Dr. Ulrike Ramming und Celine
  Klotz\n\nIn der Wahrnehmung einer breiteren Öffentlichkeit werden die
  Diskussionen zu Gender und Queerness häufig so verstanden\, dass mit dem
  Gedanken von "doing gender" eine beliebige Wahl des eigenen Geschlechts
  verbunden wäre. Dagegen spricht unsere alltägliche Erfahrung\, dass
  unser Leib zu unserem Selbstverständnis als geschlechtliche Wesen
  durchaus etwas beizutragen hat\, uns manchmal vielleicht in einer Weise
  festlegt\, wie wir sie nicht nur als angenehm empfinden. Andererseits
  verhalten wir uns zu unserem Leib und gewinnen auf diese Weise auch ein
  Verständnis von uns selbst. Neuere Forschungen in der Phänomenologie
  und in der Gender-Diskussion zeigen\, dass beide Perspektiven keine
  Gegensätze darstellen: Als leibliche Wesen befinden wir uns immer schon
  in einem Verhältnis zur Welt und zu unseren Mitmenschen\; zu unserer
  leiblichen Erfahrung gehört auch\, wie wir uns als
  geschlechtlich-sexuelle Wesen empfinden. Aber bereits die Art und Weise\,
  wie wir über derartige Erfahrungen sprechen\, kann nicht als losgelöst
  von der Sprache gedacht werden\, in der wir sie beschreiben. Auf diese
  Weise fließen gesellschaftliche Machtverhältnisse\, Normen\, Diskurse
  in unsere Äußerungen ein und nehmen Einfluss auf unser Erleben. Wir
  zitieren immer Normen\, wenn wir uns zu unserem Geschlecht verhalten\;
  aber während wir zitieren\, können wir neue Zusammenhänge entstehen
  lassen\, mit denen wir uns (individuelle und politische)
  Handlungsspielräume eröffnen und unser Verhältnis zu uns selbst
  verändern.\n\nDr. Ulrike Ramming arbeitet als wissenschaftliche
  Mitarbeiterin am Institut für Philosophie der Universität
  Stuttgart\nCeline Klotz studiert Philosophie am Institut für Philosophie
  der Universität Stuttgart.\n\nradioschauen.freies-radio.de\nEinlass
  13.30 Uhr\, Eintritt frei\n\nGefördert vom Kulturamt der Stadt Stuttgart
LOCATION:Freies Radio für Stuttgart\, Stöckachstr.16a\, 70190 Stuttgart
GEO:48.7899774;9.1996554
ORGANIZER:mailto:Freies Radio für Stuttgart
END:VEVENT
END:VCALENDAR
