BEGIN:VCALENDAR
VERSION:2.0
PRODID:eintopf.info
METHOD:REQUEST
BEGIN:VEVENT
UID:e9f11fac-0bec-4c1e-8b64-e2f68f56ba48
SUMMARY:Vortrag: Soziale Determinanten von Gesundheit - Gesundheit ist eine
  soziale Frage
DTSTART:20241216T180000Z
URL:https://eintopf.info/event/e9f11fac-0bec-4c1e-8b64-e2f68f56ba48
CATEGORIES:Vortrag\,Gesundheit
DESCRIPTION:Das Kollektiv sozial\, radikal\, gegens Kapital lädt
  Aktivist*innen des Poliklinik Syndikats ein!\n\nZum Vortrag: Der
  Unterschied in der durchschnittlichen Lebenserwartung der Menschen
  beträgt in Deutschland zwischen der niedrigsten und höchsten
  Einkommensgruppe mehr als 10 Jahre. Dies kann nicht allein damit
  erklärt werden\, dass in benachteiligten Vierteln die Ärzt*innendichte
  geringer ist oder Menschen sich „ungesund verhalten“. Vielmehr
  finden diese gesundheitlichen Ungleichheiten laut WHO ihre Ursache in der
  Gesellschaft\, den “sozialen Determinanten von Gesundheit“. Was
  diese sozialen Determinaten sind und wie sie uns und die
  Gesundheitsversorgung beeinflussen\, wird in diesem Vortrag
  aufgezeigt.\n\nZum Poliklinik Syndikat: Ein Zusammenschluss von
  Projekten\, die sich den Aufbau und den Betrieb solidarischer
  Gesundheitszentren zur Aufgabe gemacht haben. Auf diese Weise wollen
  sie gesundheitlicher Ungleichheit entgegenwirken und für eine gerechte
  und solidarische Gesellschaft eintreten und kämpfen.
LOCATION:Stadtteilzentrum Gasparitsch\, Rotenbergstr. 125\, 70190 Stuttgart
GEO:48.788058;9.2116285
ORGANIZER:mailto:Sozial, radikal, gegens Kapital
END:VEVENT
END:VCALENDAR
