BEGIN:VCALENDAR
VERSION:2.0
PRODID:eintopf.info
METHOD:REQUEST
BEGIN:VEVENT
UID:e7d4e565-fa26-4fc4-980b-9553c5fd0a39
SUMMARY:SYNTHESIZER WORKSHOP
DTSTART:20251102T130000Z
URL:https://eintopf.info/event/e7d4e565-fa26-4fc4-980b-9553c5fd0a39
DTEND:20251102T160000Z
CATEGORIES:Workshop\,Sonstiges
DESCRIPTION:Der Workshop richtet sich an alle\, die Lust haben\, in einer
  entspannten Atmosphäre einen Einblick in die Welt von
  Hardware-Synthesizern zu erhalten. Gemeinsam probieren wir aus\, wie sich
  Klänge erzeugen\, formen und verändern lassen. Vorkenntnisse sind
  ausdrücklich nicht erforderlich.\nDer Workshop ist
  kostenlos.\n\nAnmeldungen an sessions@sunnyhigh.de mit dem Betreff:
  „ESKAPADE FLINTA Synthesizer Workshop 02.11.“\n\nDer Workshop wird
  geleitet von Siri Thiermann. Sie spielt Live-Sets mit analoger\,
  digitaler und modularer Hardware. Darüber hinaus komponiert sie Musik
  für Theater und Performances.\n\nDer Workshop ist Frauen\, Lesben\,
  inter\, nicht-binären\, trans und agender Personen vorbehalten.
  Niemandem kann die Identität am Aussehen abgelesen werden. Menschen\,
  die sich über ihr Geschlecht (noch) nicht sicher sind\, sind sehr
  willkommen.
LOCATION:Sunny High Club\, Bahnhofstr. 14\, 70372 Stuttgart
GEO:48.8025406;9.2170963
ORGANIZER:mailto:Sunny High
END:VEVENT
END:VCALENDAR
