BEGIN:VCALENDAR
VERSION:2.0
PRODID:eintopf.info
METHOD:REQUEST
BEGIN:VEVENT
UID:e6bb6204-df77-497c-956f-6758dae31ec1
SUMMARY:L I SÆ Konzert
DTSTART:20251025T180000Z
URL:https://eintopf.info/event/e6bb6204-df77-497c-956f-6758dae31ec1
CATEGORIES:Konzert & Party\,Queer
DESCRIPTION:L I SÆ live im UTOPIA Kioskkkkkkkk\n\nFeministischer Pop\,
  Indie und Rap aus Tübingen – L I SÆ steht für mitreißende Beats\,
  klare Botschaften und jede Menge Haltung. 💥 Das Duo Lise & Lisa bringt
  ehrliche\, wütende und zugleich empowernde Songs auf die Bühne – ein
  Soundtrack für alle\, die keine Lust mehr auf Ungleichheit und Schweigen
  haben. Ihre Musik bewegt sich zwischen deutsch und englisch\, zwischen
  Ohrwurm und Aufrütteln – immer mit Message\, Energie und
  Humor.\n\nNach Auftritten beim CSD\, Fridays for Future und dem
  queer-feministischen Kampftag kommt L I SÆ nun endlich zu uns nach
  Stuttgart! Erwartet ein Konzert voller Kraft\, Nähe und musikalischer
  Rebellion – für feministische\, queere und solidarische Vibes\, die
  unter die Haut gehen.\n\n💜 25 Oktober · 20 Uhr
LOCATION:UTOPIA Kiosk\, Lazarettstraße 5\, 70182 Stuttgart
GEO:48.7730256;9.18134848847793
ORGANIZER:mailto:UTOPIA Kiosk
END:VEVENT
END:VCALENDAR
