BEGIN:VCALENDAR
VERSION:2.0
PRODID:eintopf.info
METHOD:REQUEST
BEGIN:VEVENT
UID:e65fd1b9-1031-430c-b1f4-f0d5fc0d7dc8
SUMMARY:club sexi
DTSTART:20250607T190000Z
URL:https://eintopf.info/event/e65fd1b9-1031-430c-b1f4-f0d5fc0d7dc8
CATEGORIES:Konzert & Party\,Queer
DESCRIPTION:hey queers!!!!━⁠☆ﾟ⁠.⁠*⁠･⁠｡ﾟjoin us
  on\nSaturday 7th of June @ 21h\nfor club sexi
  ━⁠☆ﾟ⁠.⁠*⁠･⁠｡ﾟclub sexi bringen euch das Beste und
  Schlechteste aus 100 Jahren Widerstand gegen die Normalität. sexi Sounds
  zwischen Schmusen und Riot\, Heulkrampf\, sinnlos in die Luft starren und
  Emanzipation. Alles kann\, alles muss. Tanzen\, Pogo moshpit und das gute
  Leben für alle! Kurzum Musik wie Pizza: auch schlecht noch recht
  beliebt.
LOCATION:UTOPIA Kiosk\, Lazarettstraße 5\, 70182 Stuttgart
GEO:48.7730256;9.18134848847793
ORGANIZER:mailto:UTOPIA Kiosk & your.red.nightmare
END:VEVENT
END:VCALENDAR
