BEGIN:VCALENDAR
VERSION:2.0
PRODID:eintopf.info
METHOD:REQUEST
BEGIN:VEVENT
UID:e57ed099-f1cf-43d7-8499-3cce9d0478b8
SUMMARY:Gasparitsch-Kneipe
DTSTART:20250509T190000Z
URL:https://eintopf.info/event/e57ed099-f1cf-43d7-8499-3cce9d0478b8
DTEND:20250509T225000Z
CATEGORIES:Gesellig\,Sonstiges
DESCRIPTION:jeden Freitag ab 20 Uhr mit leckerem Essen\, Getränke – in
  netter Atmosphäre
LOCATION:Stadtteilzentrum Gasparitsch\, Rotenbergstr. 125\, 70190 Stuttgart
GEO:48.788058;9.2116285
ORGANIZER:mailto:Stadtteilzentrum Gasparitsch
END:VEVENT
END:VCALENDAR
