BEGIN:VCALENDAR
VERSION:2.0
PRODID:eintopf.info
METHOD:REQUEST
BEGIN:VEVENT
UID:e42c95ce-dd85-4381-8030-db98ee27e58b
SUMMARY:Energie aus dem Fluss
DTSTART:20260129T180000Z
URL:https://eintopf.info/event/e42c95ce-dd85-4381-8030-db98ee27e58b
CATEGORIES:Vortrag\,Sonstiges
DESCRIPTION:Zukunftsfeste Wärmeversorgung aus dem Neckar für Stuttgart
  und andere Großstädte mit Dipl.-Ing. Christian Seidel\,
  Arbeitsgruppenleiter Regenerative Energien an der Technischen
  Universität Braunschweig\, Institut für Statik und Dynamik\nam
  Donnerstag\, 29. Januar 2026 um 19 Uhr im Welthaus\,\nGlobales
  Klassenzimmer\, Charlottenplatz 17\, Aufgang A im
  Innenhof\n\nhttps://kus-stuttgart.de/wp-content/uploads/2026/01/FlyerEner
 gieAusDemFluss.pdf 
LOCATION:Globales Klassenzimmer im Welthaus Stuttgart\, Charlottenplatz
  17\, 70173 Stuttgart 
GEO:48.776191;9.182046
ORGANIZER:mailto:Klima- und Umweltbündnis Stuttgart n.e.V.
END:VEVENT
END:VCALENDAR
