BEGIN:VCALENDAR
VERSION:2.0
PRODID:eintopf.info
METHOD:REQUEST
BEGIN:VEVENT
UID:e3a77bfd-e5d7-4c4d-bddc-b7b007d82690
SUMMARY:Gemeinsame Busanreise zu den Protesten gegen die AfD-Jugend in
  Gießen
DTSTART:20251128T220000Z
URL:https://eintopf.info/event/e3a77bfd-e5d7-4c4d-bddc-b7b007d82690
DTEND:20251129T190000Z
CATEGORIES:Demonstration\,Antifaschismus
DESCRIPTION:In der Nacht auf Samstag\, den 29.11. fahren wir mit Bussen aus
  Stuttgart nach Gießen\, um uns gegen die Gründung der neuen
  AfD-Jugendorganisation zu stellen und diese zu blockieren!\n\nTickets
  können an folgenden Orten und Öffnungszeiten in gekauft werden (nur
  Bargeld):\n\n📍 LinksEck: Liebenzeller Str. 1\, 70372 Stuttgart
  (Mo-Fr\, 10-18 Uhr)\n📍 Linkes Zentrum Lilo Herrmann: Böblinger Str.
  105\, 70199 Stuttgart (ab 01.11. samstags ab 19 Uhr)\n📍 Raupe
  Immersatt: Johannesstraße 97\, 70176 Stuttgart (Mi-Fr 10-23 Uhr\; Sa-So
  10-19 Uhr)\n\nTicketpreise:\nErmäßigt: 15 €\nNormal: 30
  €\nSolipreis: 60 € (ermögliche Menschen mit weniger Geld die
  Mitreise)\n\nWichtige Termine:\n📢 Aktionstrainings:\n21.11. // 18-21
  Uhr (Trott-war e.V.\, Falkertstraße 56\, Stuttgart)\n23.11. // 14-17 Uhr
  (Prisma in Kiosk\, Bahnhofstr. 14-18\, Bad Cannstatt)\n\n🚌
  Anreise:\nTreffpunkt: 28.11. um 23 Uhr am Gewerkschaftshaus\,
  Willi-Bleicher-Str. 20\nHinfahrt: 29.11. um 1:00 Uhr\nRückfahrt: 29.11.
  um ca. 18 Uhr von Gießen zurück nach Stuttgart\n\n💸 Spendenkampagne
  – Unterstütze die Fahrt!\nNicht alle können sich ein Ticket leisten.
  Hilf mit\, dass trotzdem alle mitkommen können – solidarisch gegen
  rechts! Hier kannst du spenden: https://gofund.me/bd32c6171\n\nWir sehen
  uns in Gießen ✊\n\nWeitere Infos zur Kampagne:
  https://widersetzen.com/ und https://stuttgart-gegen-rechts.de/
LOCATION:Gewerkschaftshaus Stuttgart\, Willi-Bleicher-Str. 20\, 70174
  Stuttgart
GEO:48.7787444;9.1751356
ORGANIZER:mailto:Stuttgart gegen Rechts,Widersetzen
END:VEVENT
END:VCALENDAR
