BEGIN:VCALENDAR
VERSION:2.0
PRODID:eintopf.info
METHOD:REQUEST
BEGIN:VEVENT
UID:e22cf086-fc80-418b-8712-0c48e73d0613
SUMMARY:Foodsharing Neulingstreffen
DTSTART:20231016T170000Z
URL:https://eintopf.info/event/e22cf086-fc80-418b-8712-0c48e73d0613
DTEND:20231016T180000Z
DESCRIPTION:Ihr habt Lust\, euch ehrenamtlich bei foodsharing Stuttgart zu
  engagieren und Lebensmittel bei Kooperationsbetrieben abzuholen?\n\nKommt
  zum Neulingstreffen von foodsharing! Hier bekommt ihr wichtige Infos zum
  Thema Lebensmittelverschwendung allgemein sowie zum Ablauf und Regeln
  für das Retten und Fairteilen. Vor allem aber lernt ihr die Menschen
  hinter foodsharing kennen. Sie erklären euch beim Treffen\, wie genau
  foodsharing funktioniert\, damit ihr bald selbstständig Lebensmittel
  retten könnt. Auch Team Raupe ist mit dabei und zeigt\, wie die Abgaben
  im Café laufen.\n\nKeine Voranmeldung erforderlich.\n
LOCATION:Raupe Immersatt\, Johannesstraße 97\, Stuttgart
GEO:48.782018;9.1579717
ORGANIZER:mailto:Raupe Immersatt
END:VEVENT
END:VCALENDAR
