BEGIN:VCALENDAR
VERSION:2.0
PRODID:eintopf.info
METHOD:REQUEST
BEGIN:VEVENT
UID:e200ab0d-add1-46d3-bf1b-3c95960113a6
SUMMARY:30 Jahre Da Feeva Cru
DTSTART:20241019T200000Z
URL:https://eintopf.info/event/e200ab0d-add1-46d3-bf1b-3c95960113a6
DTEND:20241020T030000Z
CATEGORIES:Konzert & Party\,Sonstiges
DESCRIPTION:\nAm 19.10.2024 feiert "Da Feeva Cru - the 30th Anniversary”
  im Sunny High und wird dabei von MC Chickaboo vom EQ50 Collective aus
  Birmingham UK supported.\nDa Feeva Cru bestehend aus Mo’Unique\,
  Yen-Cee\, Da Weedspirit und Tease etablierten ab 1994 mit Jungle und
  Drum&Bass ein bis dato in Stuttgart nicht existentes Musikgenre und
  legten so den Grundstein für die bis heute lebendige lokale Drum&Bass
  Community.\nAnfang der 90er veranstalteten Da Feeva Cru erfolgreich am
  Berliner Platz (im damaligen Großen Bär\, dem späteren Stereo\,
  Freund&Kupferstecher und heutigem Schwarzen Keiler) wöchentliche Jungle
  und Drum&Bass Events gefolgt von monatlichen Veranstaltungen in
  zahlreichen Stuttgarter Locations wie unter anderem der Röhre. Hier
  häufig in Kooperation mit dem 0711 Büro (später 0711 Entertainment)
  unter den Namen La Saga\, Vendetta\, Triade und Shaka\, sowie zahlreichen
  weiteren Events im und um den Kessel herum.\nMo’Unique ist Stuttgarter
  DJ Urgestein. Als eine der Ersten legte sie noch vor Gründung der Da
  Feeva Cru regelmäßig Hip Hop und House auf\, noch lange bevor Stuttgart
  für seinen lokalen Hip Hop und auch House Output über die Grenzen des
  Kessels Ruhm erlangte.\nDie regelmäßigen Events in der Röhre\, die ab
  Mitte der 90er federführend von Mo’Unique in Kooperation mit Schowi
  und Strachi (0711 Büro) veranstaltet wurden\, werden nach ihrem Umzug
  nach Blackpool von Tease in Kooperation mit 0711 fortgeführt.\nDas
  dortige Konzept Hip Hop\, Drum&Bass und Reggae unter einem Dach zu
  vereinen und im Wechsel hochkarätige internationale Acts und DJs aus den
  jeweiligen Genres nach Stuttgart zu buchen\, wurde nach 4 erfolgreichen
  Jahren in ein wöchentliches Club Konzept abgewandelt. Der Rude Club im
  ehemaligen Club Zollamt entstand und wurde 2003 von der Pop Akademie
  Baden-Württemberg mit dem Preis für das innovativste Club Konzept
  ausgezeichnet. Im Zeitraum 1999-2004 spielten hier weit über 500 DJs\,
  MCs und Live Acts.\n
LOCATION:Sunny High Club\, Bahnhofstr. 14\, 70372 Stuttgart
GEO:48.8025406;9.2170963
ORGANIZER:mailto:Sunny High
END:VEVENT
END:VCALENDAR
