BEGIN:VCALENDAR
VERSION:2.0
PRODID:eintopf.info
METHOD:REQUEST
BEGIN:VEVENT
UID:e0fea236-6d32-4031-8b99-2e01d766dafe
SUMMARY:Aufstand oder Aussterben
DTSTART:20211028T160000Z
URL:https://eintopf.info/event/e0fea236-6d32-4031-8b99-2e01d766dafe
DTEND:20211028T173000Z
DESCRIPTION:Vortrag des Hungerstreiks der letzten Generation  \n\nIm
  Vortrag soll es zunächst um den aktuellen Stand und Dramatik der
  Klimakrise gehen und welche Zeiträume zum Handeln uns noch bleiben.
  Außerdem erzählt eine Person vom Hungerstreik über ihre Erfahrungen.
  Abschließend werden die Kampagnen des "Aufstands der letzten Generation"
  und "Aufbruch" erklärt. Dabei werden besonders die nächsten Aktionen im
  November vorgestellt. Schaut gerne vorbei!\nBitte haltet euch an folgende
  Corona-Auflagen: 3G\, Abstand halten\, drinnen Maske tragen\n\nFalls ihr
  für den Vortrag keine Zeit habt aber trotzdem bei “Die letzte
  Generation” mitmachen möchtet\, meldet euch gerne für den "Aufstand"
  unter letztegeneration@protonmail.com und für "Aufbruch" unter
  aufbruch@riseup.net
LOCATION:Linkes Zentrum Lilo Herrmann\, Böblinger Straße 105\, 70199
  Stuttgart
GEO:48.7618266;9.1567994
END:VEVENT
END:VCALENDAR
