BEGIN:VCALENDAR
VERSION:2.0
PRODID:eintopf.info
METHOD:REQUEST
BEGIN:VEVENT
UID:df9adb79-1eb9-46d3-a9fb-4842bcc11ea8
SUMMARY:Für fehlende Bustickets in den Knast? Wir kaufen Gefangene frei!
DTSTART:20251122T090000Z
URL:https://eintopf.info/event/df9adb79-1eb9-46d3-a9fb-4842bcc11ea8
DTEND:20251122T101500Z
CATEGORIES:Vortrag\,Mobilität
DESCRIPTION:Beschreibung: Für fehlende Bustickets in den Knast? Wir kaufen
  Gefangene frei! Fahren ohne Ticket ist in Deutschland eine Straftat.
  Tausende Menschen landen jedes Jahr im Gefängnis\, weil sie sich kein
  Ticket für den öffentlichen Nahverkehr leisten konnten. Bis zu ein Jahr
  sitzen die Leute in Haft. Die Betroffenen sind überwiegend arbeitslos
  (87%)\, ohne festen Wohnsitz (15%) und suizidgefährdet (15%). Der
  Straftatbestand wurde 1935 von den Nazis eingeführt. Wir sprechen über
  Armutskriminalisierung und Mobilitätsarmut - und: darüber was wir
  dagegen tun können! Außerdem werden 5 Kampagnentipps vom Freiheitsfonds
  verraten. Nächste Haltestelle: Entkriminalisierung!\n\nMit freundlicher
  Unterstützung der Rosa Luxemburg Stiftung Baden-Württemberg
LOCATION:Prisma\, Bahnhofstraße 14-18\, 70372 Stuttgart
GEO:48.8024492;9.2171569
ORGANIZER:mailto:Kesselbambule
END:VEVENT
END:VCALENDAR
