BEGIN:VCALENDAR
VERSION:2.0
PRODID:eintopf.info
METHOD:REQUEST
BEGIN:VEVENT
UID:df00fa54-ff2a-4496-9692-74d45a3b9374
SUMMARY:Lesen ohne Klischees – Kita-Kinderbücher bewusst auswählen
DTSTART:20260713T160000Z
URL:https://eintopf.info/event/df00fa54-ff2a-4496-9692-74d45a3b9374
DTEND:20260713T173000Z
CATEGORIES:Beratung\,Sonstiges
DESCRIPTION:Liebe Familien\, Eltern\, Erziehungsberechtigte und
  pädagogische Fachkräfte\,\n\nunsere Gesellschaft ist vielfältig!
  Unsere Kinder erleben diese Vielfalt jeden Tag – auf der Straße\, in
  der Kita\, beim Spielen. Die Suche nach geeigneten Büchern\, die Kinder
  und ihre Lebenswelten in ihrer Vielfalt abbilden\, ist oft schwierig und
  kann zu Unsicherheiten führen.\n\nWir stellen Euch inspirierende
  Kinderbücher vor\, die sich kindgerecht\, klischeefrei und
  diskriminierungssensibel mit Themen wie Körper\, Familie\, Gefühlen\,
  soziale Teilhabe und Geschlechterrollen beschäftigen. Wir zeigen auf\,
  woran Ihr Stereotype\, rassistische Darstellungen und andere Formen von
  Ausgrenzung in Kinderbüchern erkennen können. Im Anschluss gehen wir
  ins gemeinsame Gespräch und beantworten gerne Eure
  Fragen.\n\nBüchertage finden mal vormittags\, mal nachmittags an
  folgenden Terminen statt:\n13. April 10:00–11:30 Uhr\n4. Mai
  18:00–19:30 Uhr\n8. Juni 10:00–11:30 Uhr\n13. Juli 18:00–19:30
  Uhr\n12. Oktober 10:00–11:30 Uhr\n9. November 18:00–19:30
  Uhr\n\nAnmeldung: https://100mensch.de/buechertage/\n\nAchtung: Bei der
  Anmeldung bekommst Du keine Bestätigungsmail. Das klappt aber trotzdem.
  🙂
LOCATION:UTOPIA Kiosk\, Lazarettstraße 5\, 70182 Stuttgart
GEO:48.7730256;9.18134848847793
ORGANIZER:mailto:Projekt 100% MENSCH
END:VEVENT
END:VCALENDAR
