BEGIN:VCALENDAR
VERSION:2.0
PRODID:eintopf.info
METHOD:REQUEST
BEGIN:VEVENT
UID:de2c6144-39ab-4486-8e25-24a54253935d
SUMMARY:Balance - Internationales Treffen zum Austausch und künstlerischen
  Tätigkeiten
DTSTART:20250614T120000Z
URL:https://eintopf.info/event/de2c6144-39ab-4486-8e25-24a54253935d
DTEND:20250614T140000Z
CATEGORIES:Workshop\,Gesundheit
DESCRIPTION:Internationales Treffen zum Austausch und künstlerischen
  Tätigkeiten\n(Zeichnen\, Collage\, Black Out Poetry u.a.)\n\nDie
  Grundlage ist systemische Gruppenarbeit.\nEs besteht die Möglichkeit
  anschliessend an einer Exkursion an inspirierende Orte in der Stadt
  Stuttgart teilzunehmen.\n\nZielgruppe: offen für alle ab 20
  Jahre\n\nLeitung: Polina Khabi \,systemische Beraterin und Therapeutin
LOCATION:Begegnungsraum e.V. Stuttgart\, Breitscheidstraße 2F
GEO:48.780469499999995;9.171318150000003
ORGANIZER:mailto:UkrainBW e.V.
END:VEVENT
END:VCALENDAR
