BEGIN:VCALENDAR
VERSION:2.0
PRODID:eintopf.info
METHOD:REQUEST
BEGIN:VEVENT
UID:dd02f126-7081-4b31-98b6-6cbc8aba5b7a
SUMMARY:Sign painting for Trans Pride
DTSTART:20250905T160000Z
URL:https://eintopf.info/event/dd02f126-7081-4b31-98b6-6cbc8aba5b7a
CATEGORIES:DIY\,Queer
DESCRIPTION:Hello dear queers! We're still on vacation but already
  preparing for our comeback yes (⁠っ⁠.⁠❛⁠ ⁠ᴗ⁠
  ⁠❛⁠.⁠)⁠っ sooo for this Friday 05.09 at 18:00 come paint signs
  — for the demo on Saturday\, together <3 at the kiosk!!! bring
  materials (if you have)
LOCATION:UTOPIA Kiosk\, Lazarettstraße 5\, 70182 Stuttgart
GEO:48.7730256;9.18134848847793
ORGANIZER:mailto:UTOPIA Kiosk
END:VEVENT
END:VCALENDAR
