BEGIN:VCALENDAR
VERSION:2.0
PRODID:eintopf.info
METHOD:REQUEST
BEGIN:VEVENT
UID:db7ce2e0-f162-4672-bc38-f9e49707c906
SUMMARY:Versammlung der Mobilitätswendebewegung (in Stuttgart): Wo stehen
  wir? Wohin geht es?
DTSTART:20251123T130000Z
URL:https://eintopf.info/event/db7ce2e0-f162-4672-bc38-f9e49707c906
DTEND:20251123T150000Z
CATEGORIES:Sonstiges\,Mobilität
DESCRIPTION:Zum Ende der Konferenz wollen wir mit möglichst vielen aus der
  Mobilitätswendebewegung zusammen kommen und gemeisam das Wochenende aber
  auch unsere Allgemeine Situation reflektieren. Dafür haben wir folgende
  Themen vorgesehen:\n\n1. Charta: Vorstellung und weiteres Vorgehen\n2.
  Rückblick Wochenende\n3. Überblick: Was steht an\, wo braucht es
  weitere Abstimmung und Vernetzung?
LOCATION:Prisma\, Bahnhofstraße 14-18\, 70372 Stuttgart
GEO:48.8024492;9.2171569
ORGANIZER:mailto:Kesselbambule
END:VEVENT
END:VCALENDAR
