BEGIN:VCALENDAR
VERSION:2.0
PRODID:eintopf.info
METHOD:REQUEST
BEGIN:VEVENT
UID:da9cc9e1-8250-4277-b532-f09581844da2
SUMMARY:Dead by Dawn
DTSTART:20241130T210000Z
URL:https://eintopf.info/event/da9cc9e1-8250-4277-b532-f09581844da2
DTEND:20241201T040000Z
CATEGORIES:Konzert & Party\,Sonstiges
DESCRIPTION:\ndead by dawn ist zurück!\n\nNachdem es für
  Tanzveranstaltungen in der Rakete auf unabsehbare Zeit R.I.P. heisst\,
  kann\, darf und wird der nächste Totentanz im Sunny High @sunnyhighclub
  stattfinden. \n\nKlopft euch die Graberde vom Kittel und schleift eure
  müden Knochen auf die Tanzfläche wenn MERCY @deadbydawnmercy und
  Bestattungsgast ALFREDO AMORE @davidtribbiani tiefschwarzes Vinyl
  aufbahren: \n\nPOST/PUNK ✹ COLD-NEW-DARK-WAVE ✹ MINIMAL ✹ NDW ✹
  OBSCURE 80's ✹ BECAUSE THE DEAD DON'T DIE ✹ UNTIL DAWN\n\nEintritt 8
  €\nWeltschmerz gratis\n
LOCATION:Sunny High Club\, Bahnhofstr. 14\, 70372 Stuttgart
GEO:48.8025406;9.2170963
END:VEVENT
END:VCALENDAR
