BEGIN:VCALENDAR
VERSION:2.0
PRODID:eintopf.info
METHOD:REQUEST
BEGIN:VEVENT
UID:da534209-bd1f-4028-92f3-23073d7a3c19
SUMMARY:Mitgliederversammlung des ADFC Stuttgarts 2026
DTSTART:20260320T170000Z
URL:https://eintopf.info/event/da534209-bd1f-4028-92f3-23073d7a3c19
DTEND:20260320T190000Z
CATEGORIES:Sonstiges\,Mobilität
DESCRIPTION:Veranstaltung für ADFC Mitglieder.\nAnmeldung unter
  stuttgart@adfc-bw.de oder im
  Tourenportal:\nhttps://touren-termine.adfc.de/radveranstaltung/194566-mit
 gliederversammlung-des-adfc-stuttgart-2026
LOCATION:Bürgerzentrum West\, Bebelstraße 22 70193\, Sophie-Knosp-Raum
  der Bürgerräume S-West
GEO:48.7753084;9.1552124
ORGANIZER:mailto:ADFC Stuttgart
END:VEVENT
END:VCALENDAR
