BEGIN:VCALENDAR
VERSION:2.0
PRODID:eintopf.info
METHOD:REQUEST
BEGIN:VEVENT
UID:d8213d4c-0653-433f-89a1-b4ef05c25e44
SUMMARY:Die Klimafrage ist eine Klassenfrage  Ökonomisch-soziale und
  sozialethisch-theologische Aspekte
DTSTART:20240223T130000Z
URL:https://eintopf.info/event/d8213d4c-0653-433f-89a1-b4ef05c25e44
DTEND:20240223T160000Z
DESCRIPTION:Flugreisen\, große Häuser und deutlich mehr Konsum -
  wohlhabende Menschen sind die hauptverantwortlichen für die
  Klimakatastrophe. Das reichste Prozent der Weltbevölkerung verursachte
  2019 so viele klimaschädliche Treibhausgase wie die fünf Milliarden
  Menschen. In Deutschland sind die ein Prozent Reichsten für 15-mal so
  viel CO2-Emissionen verantwortlich wie die ärmere Hälfte der deutschen
  Bevölkerung.\n\nDie Klimakrise und extreme soziale Ungleichheit zwischen
  Arm und Reich sind eng miteinander verwoben. Der imperiale Lebensstil der
  Reichen befeuert die Klimakrise\, die die Lebensgrundlagen von Milliarden
  Menschen und den Planeten bedroht. Menschen im globalen Süden\, aber
  auch hierzulande\, sind von klimabedingten Schäden besonders betroffen.
  Die maßgebliche Rolle extremer sozialer Ungleichheit und insbesondere
  die enorme Verantwortung der Superreichen für die Klimakrise werden in
  der Politik kaum berücksichtigt.\n\nEine Klimapolitik\, die Macht- und
  Eigentumsverhältnisse nicht im Blick hat\, verschärft soziale
  Ungerechtigkeit\, statt sie zu bekämpfen\, Wer die Klimakrise lösen
  will\, muss deshalb die Verteilungsfrage stellen. Die Klimakrise ist eine
  globale Klassenkrise. Eine klimasoziale Politik zielt auf eine
  sozial-ökologische\, fortschrittliche Gesellschaft\, die die Spaltung
  zwischen Arm und Reich durch konsequente klimasoziale Politik
  überwindet.\n\nProgramm\n\n    14:00 – 15:30: Der zerstörerische
  Reichtum und seine sozialen und ökologischen Folgen\n    Referent: Hans
  Thie\, Berlin (früher Referent für Wirtschaftspolitik in der
  Bundestagsfraktion der \n      Partei DIE LINKE)\n    15:30 – 16:00:
  Kaffeepause\n    16:00 – 17:00: Das ökologische Menschenrecht. Ein
  sozialethisch-theologischer Input\n    Referent: Joachim Thomas\,
  Gerlingen (Mitglied im Sprecherrat LINKE Christinnen und Christen in \n  
     Baden-Württemberg)\n    17:00: Ende der Veranstaltung\n\nTeilnahme
  kostenfrei\, keine Anmeldung erforderlich
LOCATION:Regionalbüro der Rosa Luxemburg Stiftung Baden-Württemberg
  e.V.\, Ludwigstraße 73a\, 70176 Stuttgart
GEO:48.772304950000006;9.157444359484437
ORGANIZER:mailto:Rosa Luxemburg Stiftung Baden-Württemberg
END:VEVENT
END:VCALENDAR
