BEGIN:VCALENDAR
VERSION:2.0
PRODID:eintopf.info
METHOD:REQUEST
BEGIN:VEVENT
UID:d75fba7d-023b-49b2-a1ab-48ac517d2d9e
SUMMARY:ÖPNV statt Panzer
DTSTART:20251122T151500Z
URL:https://eintopf.info/event/d75fba7d-023b-49b2-a1ab-48ac517d2d9e
DTEND:20251122T170000Z
CATEGORIES:Workshop\,Antimilitarismus
DESCRIPTION:Seit Jahren bringen Aktivisti Vergesellschaftung und
  sozial-ökologische Konversion als Transformationsperspektive für die
  Automobilindustrie in politische Debatten ein. Nun drohen die stark
  gestiegenen Investitionen in Militär und Rüstung in Deutschland diese
  Bestrebungen umzukehren.\n\nÜberall entsteht neue militärische
  Infrastruktion: Krankenhäuser werden Lazarette\, zivile Fabriken rüsten
  auf Waffenproduktion um\, Bahnstrecken und Autobahnen werden zu
  Truppentransportrouten\, Offiziere mobilisieren im Schulunterricht\,
  Softwareschmieden erstellen tödliche Programme\, Hochschulen streichen
  ihre Zivilklauseln (wenn vorhanden) und forschen für den Krieg. Doch in
  diesem Umbau von zivilen Produktionsstätten und öffentlicher
  Infrastruktur zu materiellen Grundlage der Kriegsführung steckt die
  größte Chance zur Gegenwehr: Wenn sie keine Fabriken kaufen und
  Arbeitis für sich gewinnen können\, findet die Aufrüstung nicht statt.
  Daher der Vorschlag: Zivile (Produktions-)Stätten verteidigen\, zusammen
  mit den dort Arbeitenden und der Bevölkerung am Ort.\n\nMit freundlicher
  Unterstützung der Rosa Luxemburg Stiftung Baden-Württemberg
LOCATION:Prisma\, Bahnhofstraße 14-18\, 70372 Stuttgart
GEO:48.8024492;9.2171569
ORGANIZER:mailto:Kesselbambule
END:VEVENT
END:VCALENDAR
