BEGIN:VCALENDAR
VERSION:2.0
PRODID:eintopf.info
METHOD:REQUEST
BEGIN:VEVENT
UID:d71cd1f5-5fac-4084-8b0c-4e2ff341338e
SUMMARY:Hör dir unseren Plan!
DTSTART:20231210T183000Z
URL:https://eintopf.info/event/d71cd1f5-5fac-4084-8b0c-4e2ff341338e
DTEND:20231210T200000Z
DESCRIPTION:Wir haben einen Plan!\n\nDIE VISION:\nUm unsere
  Lebensgrundlagen zu schützen\, brauchen wir schnellen nie da gewesenen
  Wandel in allen Bereichen unserer Gesellschaft.\nDeshalb fordern wir von
  unserer Regierung: Ausstieg aus Öl\, Gas und Kohle bis spätestens 2030
  und zwar sozial-gerecht!\nDer Weg dahin kann ein Gesellschaftsrat sein\,
  in dem Menschen mit unterschiedlichen Perspektiven aus ganz Deutschland
  zusammenkommen\, um die besten Lösungen zu finden. Denn die Bewältigung
  der Klimakrise ist die Riesenherausforderung\, die wir nur gemeinsam
  stemmen können!\n\nDER VORTRAG:\nBei unserem Vortrag sprechen wir über
  die Klimakatastrophe und zivilen Widerstand. Außerdem findest du
  Anschluss an die Widerstandsgruppe bei dir vor Ort. Mehr dazu auf
  www.letztegeneration.org.\n\nDIE BEWEGUNG:\nIm ganzen Land schließen
  sich Menschen zusammen und protestieren\, weil wir die Zerstörung
  unserer Lebensgrundlagen nicht hinnehmen wollen. Wir protestieren in Form
  von Massenbesetzungen\, Protestmärschen\, Sitzblockaden und
  Farbprotesten. Dabei gibt es viel zu tun\, auch abseits der Straße. Du
  willst etwas gegen die Klimakrise tun\, für neue Politik eintreten? Mach
  mit!
LOCATION:ABV-Zimmertheater\, Heusteigstr. 45\, 70180 Stuttgart
ORGANIZER:mailto:Letzte Generation vor den Kipppunkten Stuttgart 
END:VEVENT
END:VCALENDAR
