BEGIN:VCALENDAR
VERSION:2.0
PRODID:eintopf.info
METHOD:REQUEST
BEGIN:VEVENT
UID:d6ad98bc-b657-4905-b0e7-1addb6df8319
SUMMARY:Zur Kritik der Freiheit und ihrer Repression in liberalen
  Demokratien
DTSTART:20260313T173000Z
URL:https://eintopf.info/event/d6ad98bc-b657-4905-b0e7-1addb6df8319
DTEND:20260315T130000Z
CATEGORIES:Podiumsdiskussion\,Kunst
DESCRIPTION:SYMPOSIUM \n13.–15. März 2026\n\nmit\nLily Abichahine\,
  Emily Dische-Becker\, Katja Diefenbach\, Denise Ferreira da Silva
  (zoom)\, Hanno Hauenstein\, Sami Khatib\, Henrike Kohpeiß\, Ralf
  Michaels\, Hannah Tzuberi\, René Wildangel und anderen\n\nSprache:
  Englisch\nAnmeldung: volk@wkv-stuttgart.de\n\n\nAuslöser dieses
  Symposiums ist die wachsende Sorge um die Freiheit\, Unabhängigkeit und
  Freiräume von Kunst\, Wissenschaft und Gesellschaft in Deutschland und
  anderen liberalen Demokratien. \n\nÜber die Kontexte und Tragweiten der
  Restriktionen sowie über mögliche Umgangsweisen damit möchten wir auf
  transdisziplinärer Ebene diskutieren: Das heißt in und zwischen den
  Diskursen von Philosophie\, Politik-\, Rechts- und Kulturwissenschaften
  – und darüber hinaus. \n\nDie modernen\, vermeintlich europäischen
  Konzepte von Freiheit und Autonomie entstehen mit der Aufklärung\, deren
  nicht nur emanzipatorischen\, sondern auch sexistischen\, rassistischen\,
  klassistischen und kolonialen Strukturen Gegenstand jüngerer
  transdisziplinärer Forschung und Theorie sind. Freiheit und
  Unabhängigkeit stellen keine fixen\, sondern permanent zu erstreitende
  soziale Verhältnisse dar. Dieser Streit muss offen sein. \n\nZu den
  zentralen Anliegen des Symposiums zählt die Frage\, wie der Streit um
  Freiheit\, Unabhängigkeit und Freiräume – einschließlich ihrer
  Grenzen und Widersprüche – auf offene\, diverse und
  diskriminierungssensible Weise geführt und dabei einer
  rechtspopulistischen und rechtsextremen Vereinnahmung entzogen werden
  kann. \n\nWelche ethischen\, politischen und rechtlichen Grundlagen und
  Methoden sind dabei relevant? Wie können und sollten sich Institutionen
  und Zivilgesellschaft hier positionieren? \n\n\nPROGRAMM\nFreitag\, 13.
  März 2026: 18:30 – 21 Uhr\nSamstag\, 14. März 2026: 10:30 – 21
  Uhr\nSonntag\, 15. März 2026: 10 – 12 Uhr\nSonntag\, 15. März 2026:
  13–14 Uhr\nKünstlerinnenrundgang zur Ausstellung von Dominique
  Hurth\nEin ausführliches Programm erscheint in Kürze\n\n\nKuratiert
  von\nIris Dressler\, Hans D. Christ\n\n\nGefördert von\nKulturamt der
  Landeshauptstadt Stuttgart\,\nAbteilung für Literatur and
  Philosophie\n\n\nWeitere Informationen unter:
  https://www.wkv-stuttgart.de/programm/2026/veranstaltungen/freiheit/
LOCATION:Württembergischer Kunstverein Stuttgart\, Schlossplatz 2\, 70173
  Stuttgart
GEO:48.7793713;9.1810019
ORGANIZER:mailto:Württembergischer Kunstverein Stuttgart
END:VEVENT
END:VCALENDAR
