BEGIN:VCALENDAR
VERSION:2.0
PRODID:eintopf.info
METHOD:REQUEST
BEGIN:VEVENT
UID:d6a4ee44-07ae-4d4e-8103-9d2edb70af44
SUMMARY:Linux-Sprechstunde
DTSTART:20260131T090000Z
URL:https://eintopf.info/event/d6a4ee44-07ae-4d4e-8103-9d2edb70af44
DTEND:20260131T110000Z
CATEGORIES:Beratung\,IT
DESCRIPTION:Linux-Sprechstunde in der essembly\nHier findest du Antworten
  auf alle Fragen zum Umstieg auf Linux und ausserdem Hilfe\, falls es nach
  dem Umstieg Probleme geben
  sollte.\n\nwww.linuxcafe-esslingen.de\n\nwww.endof10.org\n\n#DigitalIndep
 endenceDay\n#DIDit\n#DUTgemacht\n\n
LOCATION:essembly\, Milchstrasse 17 73728 Esslingen
GEO:48.7415178;9.311948
ORGANIZER:mailto:Linux-Café Esslingen
END:VEVENT
END:VCALENDAR
